BEGIN:VCALENDAR
VERSION:2.0
PRODID:-//UNIVERSITY OF TEXAS SCHOOL OF LAW//NONSGML Events Calendar v1.0//EN
X-WR-TIMEZONE:America/Chicago
BEGIN:VTIMEZONE
TZID:US/Central
X-LIC-LOCATION:America/Chicago
BEGIN:DAYLIGHT
TZOFFSETFROM:-0600
TZOFFSETTO:-0500
TZNAME:CDT
DTSTART:19700308T020000
RRULE:FREQ=YEARLY;BYMONTH=3;BYDAY=2SU
END:DAYLIGHT
BEGIN:STANDARD
TZOFFSETFROM:-0500
TZOFFSETTO:-0600
TZNAME:CST
DTSTART:19701101T020000
RRULE:FREQ=YEARLY;BYMONTH=11;BYDAY=1SU
END:STANDARD
END:VTIMEZONE
BEGIN:VEVENT
DTSTART;TZID=US/Central:20111103T113000
DTEND;VALUE=DATE-TIME;TZID=US/Central:20111103T123000

DTSTAMP:20260423T220300Z
CREATED:20111026T170300Z
LAST-MODIFIED:20111101T163100Z
UID:20111103T113000-12805@law.utexas.edu
SUMMARY:Human Rights Law Society meeting
DESCRIPTION:<p>Interested in human rights?  Join the Human Rights Law Society!  We will be having a meeting Thursday, November 3.  This is a great opportunity to meet other students with similar interests, get involved in activities and issues that you care about, and find ways to integrate your legal education with activism. Food will be provided.</p>
  <p>Date: Thursday, November 3</p>
  <p>Time: 11:30am-12:20pm</p>
  <p>Location: TNH 3.126</p>
  <p>We hope to see you there!</p>\n\nIf you need an accommodation to participate in this event, please contact the event sponsor or the Texas Law Special Events Office at specialevents@law.utexas.edu no later than seven business days prior to the event.
X-ALT-DESC;FMTTYPE=text/html:<p>Interested in human rights?  Join the Human Rights Law Society!  We will be having a meeting Thursday, November 3.  This is a great opportunity to meet other students with similar interests, get involved in activities and issues that you care about, and find ways to integrate your legal education with activism. Food will be provided.</p>
  <p>Date: Thursday, November 3</p>
  <p>Time: 11:30am-12:20pm</p>
  <p>Location: TNH 3.126</p>
  <p>We hope to see you there!</p><p>If you need an accommodation to participate in this event, please contact the event
                                          event sponsor or the Texas Law Special Events Office at <a href="mailto:specialevents@law.utexas.edu">specialevents@law.utexas.edu</a> no later than seven business days prior to the event.</p>
CATEGORIES:Meeting
LOCATION:TNH 3.126 - Ratliff Classroom
URL:http://law.utexas.edu/calendar/2011/11/03/12805/
CLASS:PUBLIC
STATUS:CONFIRMED

END:VEVENT
END:VCALENDAR