BEGIN:VCALENDAR
VERSION:2.0
PRODID:-//UNIVERSITY OF TEXAS SCHOOL OF LAW//NONSGML Events Calendar v1.0//EN
X-WR-TIMEZONE:America/Chicago
BEGIN:VTIMEZONE
TZID:US/Central
X-LIC-LOCATION:America/Chicago
BEGIN:DAYLIGHT
TZOFFSETFROM:-0600
TZOFFSETTO:-0500
TZNAME:CDT
DTSTART:19700308T020000
RRULE:FREQ=YEARLY;BYMONTH=3;BYDAY=2SU
END:DAYLIGHT
BEGIN:STANDARD
TZOFFSETFROM:-0500
TZOFFSETTO:-0600
TZNAME:CST
DTSTART:19701101T020000
RRULE:FREQ=YEARLY;BYMONTH=11;BYDAY=1SU
END:STANDARD
END:VTIMEZONE
BEGIN:VEVENT
DTSTART;TZID=US/Central:20120118T113000
DTEND;VALUE=DATE-TIME;TZID=US/Central:20120118T123000

DTSTAMP:20260423T174800Z
CREATED:20120113T020800Z
LAST-MODIFIED:20120117T145000Z
UID:20120118T113000-13457@law.utexas.edu
SUMMARY:Judicial Internships in the Summer
DESCRIPTION:<p><a href="http://www.utexas.edu/law/career/judicial/internships.html">Judicial internships</a> are open to all students including 1Ls. There are hundreds of summer judicial internship opportunities available throughout the nation. You may be able to receive school credit if you intern for a federal district, federal appellate, or state appellate judge, including receiving three hours of credit for interning at the Texas Supreme Court, Court of Criminal Appeals, and the Third Court of Appeals. UT Law students and judicial advisors, will discuss their judicial internship experiences and how they secured their positions.</p>
  <p>Panelists include the following 3Ls:  Chris Jones, Lauren Fitte, Brittany Artimez and Raul Garcia; Mary Crouter, Assistant Director of the William Wayne Justice Center for Public Interest Law; and Remi Ratliff, Director of Judicial Programs with the Career Services Office.</p>
  <p>RSVP on <a title="UT Law Symplicity" href="https://law-utexas-csm.symplicity.com/students/">UT Law Symplicity</a> by Tuesday, January 17,  by selecting the 'Events' tab.</p>\n\nIf you need an accommodation to participate in this event, please contact the event sponsor or the Texas Law Special Events Office at specialevents@law.utexas.edu no later than seven business days prior to the event.
X-ALT-DESC;FMTTYPE=text/html:<p><a href="http://www.utexas.edu/law/career/judicial/internships.html">Judicial internships</a> are open to all students including 1Ls. There are hundreds of summer judicial internship opportunities available throughout the nation. You may be able to receive school credit if you intern for a federal district, federal appellate, or state appellate judge, including receiving three hours of credit for interning at the Texas Supreme Court, Court of Criminal Appeals, and the Third Court of Appeals. UT Law students and judicial advisors, will discuss their judicial internship experiences and how they secured their positions.</p>
  <p>Panelists include the following 3Ls:  Chris Jones, Lauren Fitte, Brittany Artimez and Raul Garcia; Mary Crouter, Assistant Director of the William Wayne Justice Center for Public Interest Law; and Remi Ratliff, Director of Judicial Programs with the Career Services Office.</p>
  <p>RSVP on <a title="UT Law Symplicity" href="https://law-utexas-csm.symplicity.com/students/">UT Law Symplicity</a> by Tuesday, January 17,  by selecting the 'Events' tab.</p><p>If you need an accommodation to participate in this event, please contact the event
                                          event sponsor or the Texas Law Special Events Office at <a href="mailto:specialevents@law.utexas.edu">specialevents@law.utexas.edu</a> no later than seven business days prior to the event.</p>
CATEGORIES:Workshop / Training Program
LOCATION:CCJ 2.306 - Eidman Courtroom
URL:http://law.utexas.edu/calendar/2012/01/18/13457/
CLASS:PUBLIC
STATUS:CONFIRMED
COMMENT:Please contact Remi Ratliff, Director of Judicial Programs, at 512-232-1163 or <a href="mailto:rrattliff@law.utexas.edu">rratliff@law.utexas.edu</a>.
END:VEVENT
END:VCALENDAR