BEGIN:VCALENDAR
VERSION:2.0
PRODID:-//UNIVERSITY OF TEXAS SCHOOL OF LAW//NONSGML Events Calendar v1.0//EN
X-WR-TIMEZONE:America/Chicago
BEGIN:VTIMEZONE
TZID:US/Central
X-LIC-LOCATION:America/Chicago
BEGIN:DAYLIGHT
TZOFFSETFROM:-0600
TZOFFSETTO:-0500
TZNAME:CDT
DTSTART:19700308T020000
RRULE:FREQ=YEARLY;BYMONTH=3;BYDAY=2SU
END:DAYLIGHT
BEGIN:STANDARD
TZOFFSETFROM:-0500
TZOFFSETTO:-0600
TZNAME:CST
DTSTART:19701101T020000
RRULE:FREQ=YEARLY;BYMONTH=11;BYDAY=1SU
END:STANDARD
END:VTIMEZONE
BEGIN:VEVENT
DTSTART;TZID=US/Central:20120119T173000
DTEND;VALUE=DATE-TIME;TZID=US/Central:20120119T190000

DTSTAMP:20260423T174800Z
CREATED:20120113T234500Z
LAST-MODIFIED:20120113T234800Z
UID:20120119T173000-13487@law.utexas.edu
SUMMARY:ACCS Happy Hour
DESCRIPTION:<p>The student-run <a href="http://www.utexas.edu/law/career/accs/index.html">Action Committee for Career Services (ACCS) </a>will be having a happy hour for current members and students interested in joining the ACCS. Stop by to learn how you can partner with the Career Services Office to perform employer outreach, staff on-campus recruiting programs and receptions, and help develop career-related resources. Crown &amp; Anchor is located at 2911 San Jacinto Boulevard. See you there! </p>\n\nIf you need an accommodation to participate in this event, please contact the event sponsor or the Texas Law Special Events Office at specialevents@law.utexas.edu no later than seven business days prior to the event.
X-ALT-DESC;FMTTYPE=text/html:<p>The student-run <a href="http://www.utexas.edu/law/career/accs/index.html">Action Committee for Career Services (ACCS) </a>will be having a happy hour for current members and students interested in joining the ACCS. Stop by to learn how you can partner with the Career Services Office to perform employer outreach, staff on-campus recruiting programs and receptions, and help develop career-related resources. Crown &amp; Anchor is located at 2911 San Jacinto Boulevard. See you there! </p><p>If you need an accommodation to participate in this event, please contact the event
                                          event sponsor or the Texas Law Special Events Office at <a href="mailto:specialevents@law.utexas.edu">specialevents@law.utexas.edu</a> no later than seven business days prior to the event.</p>
CATEGORIES:Meeting
LOCATION:Crown & Anchor, 2911 San Jacinto Boulevard
URL:http://law.utexas.edu/calendar/2012/01/19/13487/
CLASS:PUBLIC
STATUS:CONFIRMED
COMMENT:Please contact Nick Stepp, ACCS President, at <a href="mailto:nicholas.stepp@gmail.com">nicholas.stepp@gmail.com</a>.
END:VEVENT
END:VCALENDAR