BEGIN:VCALENDAR
VERSION:2.0
PRODID:-//UNIVERSITY OF TEXAS SCHOOL OF LAW//NONSGML Events Calendar v1.0//EN
X-WR-TIMEZONE:America/Chicago
BEGIN:VTIMEZONE
TZID:US/Central
X-LIC-LOCATION:America/Chicago
BEGIN:DAYLIGHT
TZOFFSETFROM:-0600
TZOFFSETTO:-0500
TZNAME:CDT
DTSTART:19700308T020000
RRULE:FREQ=YEARLY;BYMONTH=3;BYDAY=2SU
END:DAYLIGHT
BEGIN:STANDARD
TZOFFSETFROM:-0500
TZOFFSETTO:-0600
TZNAME:CST
DTSTART:19701101T020000
RRULE:FREQ=YEARLY;BYMONTH=11;BYDAY=1SU
END:STANDARD
END:VTIMEZONE
BEGIN:VEVENT
DTSTART;TZID=US/Central:20120120T113000
DTEND;VALUE=DATE-TIME;TZID=US/Central:20120120T123000

DTSTAMP:20260423T174900Z
CREATED:20120113T022900Z
LAST-MODIFIED:20120119T150800Z
UID:20120120T113000-13460@law.utexas.edu
SUMMARY:Professional Business Etiquette
DESCRIPTION:<p>Law firms and other legal employers increasingly use receptions and networking events to make initial contact with law students. They also frequently follow up interviews with a business lunch or dinner. Mary Crane (<a href="http://www.marycrane.com/">www.marycrane.com</a>) will provide participants 10 rules to get the most out of any networking event and 10 more rules to manage a business meal.  Mary has been featured on <em>60 Minutes</em>, <em>Fox Business News</em> and <em>ABC Radio</em>.  She has been quoted extensively in a variety of print and electronic media, including <em>The New York Times,</em> <em>The Wall Street Journal</em>, Forbes.com, and Fortune.com. Lunch will be served and is sponsored by <a title="Andrews Kurth LLP" href="http://www.andrewskurth.com/">Andrews Kurth LLP</a>.</p>
  <p>RSVP on <a title="UT Law Symplicity" href="https://law-utexas-csm.symplicity.com/students/">UT Law Symplicity</a> by Thursday, January 19, by selecting the 'Events' tab.</p>\n\nIf you need an accommodation to participate in this event, please contact the event sponsor or the Texas Law Special Events Office at specialevents@law.utexas.edu no later than seven business days prior to the event.
X-ALT-DESC;FMTTYPE=text/html:<p>Law firms and other legal employers increasingly use receptions and networking events to make initial contact with law students. They also frequently follow up interviews with a business lunch or dinner. Mary Crane (<a href="http://www.marycrane.com/">www.marycrane.com</a>) will provide participants 10 rules to get the most out of any networking event and 10 more rules to manage a business meal.  Mary has been featured on <em>60 Minutes</em>, <em>Fox Business News</em> and <em>ABC Radio</em>.  She has been quoted extensively in a variety of print and electronic media, including <em>The New York Times,</em> <em>The Wall Street Journal</em>, Forbes.com, and Fortune.com. Lunch will be served and is sponsored by <a title="Andrews Kurth LLP" href="http://www.andrewskurth.com/">Andrews Kurth LLP</a>.</p>
  <p>RSVP on <a title="UT Law Symplicity" href="https://law-utexas-csm.symplicity.com/students/">UT Law Symplicity</a> by Thursday, January 19, by selecting the 'Events' tab.</p><p>If you need an accommodation to participate in this event, please contact the event
                                          event sponsor or the Texas Law Special Events Office at <a href="mailto:specialevents@law.utexas.edu">specialevents@law.utexas.edu</a> no later than seven business days prior to the event.</p>
CATEGORIES:Workshop / Training Program
LOCATION:TNH 2.114 - Francis Auditorium
URL:http://law.utexas.edu/calendar/2012/01/20/13460/
CLASS:PUBLIC
STATUS:CONFIRMED
COMMENT:Please contact Angelica Salinas Evans, Associate Director of Career Services, at <a href="mailto:aevans@law.utexas.edu">aevans@law.utexas.edu</a> in the CSO.
END:VEVENT
END:VCALENDAR