BEGIN:VCALENDAR
VERSION:2.0
PRODID:-//UNIVERSITY OF TEXAS SCHOOL OF LAW//NONSGML Events Calendar v1.0//EN
X-WR-TIMEZONE:America/Chicago
BEGIN:VTIMEZONE
TZID:US/Central
X-LIC-LOCATION:America/Chicago
BEGIN:DAYLIGHT
TZOFFSETFROM:-0600
TZOFFSETTO:-0500
TZNAME:CDT
DTSTART:19700308T020000
RRULE:FREQ=YEARLY;BYMONTH=3;BYDAY=2SU
END:DAYLIGHT
BEGIN:STANDARD
TZOFFSETFROM:-0500
TZOFFSETTO:-0600
TZNAME:CST
DTSTART:19701101T020000
RRULE:FREQ=YEARLY;BYMONTH=11;BYDAY=1SU
END:STANDARD
END:VTIMEZONE
BEGIN:VEVENT
DTSTART;TZID=US/Central:20120123T111500
DTEND;VALUE=DATE-TIME;TZID=US/Central:20120123T121500

DTSTAMP:20260423T174800Z
CREATED:20120117T183500Z
LAST-MODIFIED:20120117T190600Z
UID:20120123T111500-13496@law.utexas.edu
SUMMARY:Town Hall with Dean Lindquist
DESCRIPTION:<p>Dean Lindquist and the SBA will hold this semester's first Town Hall Meeting.  Dean Lindquist will give a report on the State of the Law School, take questions, and join in discussion.  The primary topics will be:</p>
  <p>•    The Transition in the Office of the Dean </p>
  <p>•    The Search for a Permanent Dean</p>
  <p>•    The Current State and Future of the Law School </p>
  <p>Cookies and soft drinks will be served.</p>\n\nIf you need an accommodation to participate in this event, please contact the event sponsor or the Texas Law Special Events Office at specialevents@law.utexas.edu no later than seven business days prior to the event.
X-ALT-DESC;FMTTYPE=text/html:<p>Dean Lindquist and the SBA will hold this semester's first Town Hall Meeting.  Dean Lindquist will give a report on the State of the Law School, take questions, and join in discussion.  The primary topics will be:</p>
  <p>•    The Transition in the Office of the Dean </p>
  <p>•    The Search for a Permanent Dean</p>
  <p>•    The Current State and Future of the Law School </p>
  <p>Cookies and soft drinks will be served.</p><p>If you need an accommodation to participate in this event, please contact the event
                                          event sponsor or the Texas Law Special Events Office at <a href="mailto:specialevents@law.utexas.edu">specialevents@law.utexas.edu</a> no later than seven business days prior to the event.</p>
CATEGORIES:Panel Discussion / Speaker Series
LOCATION:TNH 2.123 - Beck Classroom
URL:http://law.utexas.edu/calendar/2012/01/23/13496/
CLASS:PUBLIC
STATUS:CONFIRMED

END:VEVENT
END:VCALENDAR