BEGIN:VCALENDAR
VERSION:2.0
PRODID:-//UNIVERSITY OF TEXAS SCHOOL OF LAW//NONSGML Events Calendar v1.0//EN
X-WR-TIMEZONE:America/Chicago
BEGIN:VTIMEZONE
TZID:US/Central
X-LIC-LOCATION:America/Chicago
BEGIN:DAYLIGHT
TZOFFSETFROM:-0600
TZOFFSETTO:-0500
TZNAME:CDT
DTSTART:19700308T020000
RRULE:FREQ=YEARLY;BYMONTH=3;BYDAY=2SU
END:DAYLIGHT
BEGIN:STANDARD
TZOFFSETFROM:-0500
TZOFFSETTO:-0600
TZNAME:CST
DTSTART:19701101T020000
RRULE:FREQ=YEARLY;BYMONTH=11;BYDAY=1SU
END:STANDARD
END:VTIMEZONE
BEGIN:VEVENT
DTSTART;TZID=US/Central:20120123
DTEND;TZID=US/Central:20120124
X-MICROSOFT-CDO-ALLDAYEVENT:TRUE
X-FUNAMBOL-ALLDAY:TRUE
DTSTAMP:20260423T174800Z
CREATED:20120119T171900Z
LAST-MODIFIED:20120119T233200Z
UID:20120123T000000-13532@law.utexas.edu
SUMMARY:Join the American Journal of Crim Law
DESCRIPTION:<p>The American Journal of Criminal Law (AJCL) is now accepting new members. If you are interested in joining one of the country's top criminal law journals, please send a resume, transcript, and a writing sample to managing.ajcl@gmail.com by February 3rd. Applicants who got an A+ or A in Criminal Law will automatically be invited to join after an application is submitted. If there are any questions, please contact Brenna McGee at managing.ajcl@gmail.com. </p>\n\nIf you need an accommodation to participate in this event, please contact the event sponsor or the Texas Law Special Events Office at specialevents@law.utexas.edu no later than seven business days prior to the event.
X-ALT-DESC;FMTTYPE=text/html:<p>The American Journal of Criminal Law (AJCL) is now accepting new members. If you are interested in joining one of the country's top criminal law journals, please send a resume, transcript, and a writing sample to managing.ajcl@gmail.com by February 3rd. Applicants who got an A+ or A in Criminal Law will automatically be invited to join after an application is submitted. If there are any questions, please contact Brenna McGee at managing.ajcl@gmail.com. </p><p>If you need an accommodation to participate in this event, please contact the event
                                          event sponsor or the Texas Law Special Events Office at <a href="mailto:specialevents@law.utexas.edu">specialevents@law.utexas.edu</a> no later than seven business days prior to the event.</p>
CATEGORIES:Other

URL:http://law.utexas.edu/calendar/2012/01/23/13532/
CLASS:PUBLIC
STATUS:CONFIRMED
COMMENT:managing.ajcl@gmail.com
END:VEVENT
END:VCALENDAR