BEGIN:VCALENDAR
VERSION:2.0
PRODID:-//UNIVERSITY OF TEXAS SCHOOL OF LAW//NONSGML Events Calendar v1.0//EN
X-WR-TIMEZONE:America/Chicago
BEGIN:VTIMEZONE
TZID:US/Central
X-LIC-LOCATION:America/Chicago
BEGIN:DAYLIGHT
TZOFFSETFROM:-0600
TZOFFSETTO:-0500
TZNAME:CDT
DTSTART:19700308T020000
RRULE:FREQ=YEARLY;BYMONTH=3;BYDAY=2SU
END:DAYLIGHT
BEGIN:STANDARD
TZOFFSETFROM:-0500
TZOFFSETTO:-0600
TZNAME:CST
DTSTART:19701101T020000
RRULE:FREQ=YEARLY;BYMONTH=11;BYDAY=1SU
END:STANDARD
END:VTIMEZONE
BEGIN:VEVENT
DTSTART;TZID=US/Central:20120125T140000
DTEND;VALUE=DATE-TIME;TZID=US/Central:20120125T150000

DTSTAMP:20260423T174800Z
CREATED:20120116T223900Z
LAST-MODIFIED:20120125T133700Z
UID:20120125T140000-13493@law.utexas.edu
SUMMARY:Summer Public Interest Job Search
DESCRIPTION:<p>This is the first of a two-part webinar series, co-sponsored by NALP and Equal Justice Works, which will provide law students with insight on the key elements of the summer public interest job application process. Attorneys with years of application review experience will highlight do’s and don’ts and explain how and why public interest application materials may substantively differ from law firm materials. Panelists include Steve Grumm, Director of Public Service Initiatives, NALP; Stuart Smith, Director of Legal Recruitment, New York City Law Department; and Nicole Vikan, Assistant Director for Public Interest &amp; Government Careers, Georgetown University Law Center.</p>
  <p>We invite you to watch this webinar. Cookies will be served. RSVP on <a title="UT Law Symplicity" href="https://law-utexas-csm.symplicity.com/students/">UT Law Symplicity</a> by Tuesday, January 24, by selecting the 'Events' tab.</p>
  <p>If you are unable to attend, you may <a title="Go To Meeting" href="https://www2.gotomeeting.com/register/926024994">register for the webinar directly</a>.</p>\n\nIf you need an accommodation to participate in this event, please contact the event sponsor or the Texas Law Special Events Office at specialevents@law.utexas.edu no later than seven business days prior to the event.
X-ALT-DESC;FMTTYPE=text/html:<p>This is the first of a two-part webinar series, co-sponsored by NALP and Equal Justice Works, which will provide law students with insight on the key elements of the summer public interest job application process. Attorneys with years of application review experience will highlight do’s and don’ts and explain how and why public interest application materials may substantively differ from law firm materials. Panelists include Steve Grumm, Director of Public Service Initiatives, NALP; Stuart Smith, Director of Legal Recruitment, New York City Law Department; and Nicole Vikan, Assistant Director for Public Interest &amp; Government Careers, Georgetown University Law Center.</p>
  <p>We invite you to watch this webinar. Cookies will be served. RSVP on <a title="UT Law Symplicity" href="https://law-utexas-csm.symplicity.com/students/">UT Law Symplicity</a> by Tuesday, January 24, by selecting the 'Events' tab.</p>
  <p>If you are unable to attend, you may <a title="Go To Meeting" href="https://www2.gotomeeting.com/register/926024994">register for the webinar directly</a>.</p><p>If you need an accommodation to participate in this event, please contact the event
                                          event sponsor or the Texas Law Special Events Office at <a href="mailto:specialevents@law.utexas.edu">specialevents@law.utexas.edu</a> no later than seven business days prior to the event.</p>
CATEGORIES:Workshop / Training Program
LOCATION:TNH 3.127 - Roberts Classroom
URL:http://law.utexas.edu/calendar/2012/01/25/13493/
CLASS:PUBLIC
STATUS:CONFIRMED
COMMENT:Please contact Nicole Simmons, Public Interest Career Counselor, at 512-232-1160 or <a href="mailto:nsimmons@law.utexas.edu">nsimmons@law.utexas.edu</a>.
END:VEVENT
END:VCALENDAR