BEGIN:VCALENDAR
VERSION:2.0
PRODID:-//UNIVERSITY OF TEXAS SCHOOL OF LAW//NONSGML Events Calendar v1.0//EN
X-WR-TIMEZONE:America/Chicago
BEGIN:VTIMEZONE
TZID:US/Central
X-LIC-LOCATION:America/Chicago
BEGIN:DAYLIGHT
TZOFFSETFROM:-0600
TZOFFSETTO:-0500
TZNAME:CDT
DTSTART:19700308T020000
RRULE:FREQ=YEARLY;BYMONTH=3;BYDAY=2SU
END:DAYLIGHT
BEGIN:STANDARD
TZOFFSETFROM:-0500
TZOFFSETTO:-0600
TZNAME:CST
DTSTART:19701101T020000
RRULE:FREQ=YEARLY;BYMONTH=11;BYDAY=1SU
END:STANDARD
END:VTIMEZONE
BEGIN:VEVENT
DTSTART;TZID=US/Central:20120126T123000
DTEND;VALUE=DATE-TIME;TZID=US/Central:20120126T133000

DTSTAMP:20260423T174900Z
CREATED:20120113T195400Z
LAST-MODIFIED:20120126T163000Z
UID:20120126T123000-13483@law.utexas.edu
SUMMARY:Lunch with a Law Professor
DESCRIPTION:<p>Meet and listen to Professor Lynn Blais, Leroy G. Denman, Jr. Regents Professor in Real Property Law,
  discuss current projects she is working on and other areas of interest to her in a relaxed setting. Professor Blais is a Co-Director of the Supreme Court Clinic. In addition, she teaches Administrative Law, Environmental Law, and Property. Her research focuses on the allocation of property rights and natural resources and the decision making processes underlying these allocations.Lunch will be served. RSVP to Gena Dawson at gdawson@law.utexas.edu.</p>\n\nIf you need an accommodation to participate in this event, please contact the event sponsor or the Texas Law Special Events Office at specialevents@law.utexas.edu no later than seven business days prior to the event.
X-ALT-DESC;FMTTYPE=text/html:<p>Meet and listen to Professor Lynn Blais, Leroy G. Denman, Jr. Regents Professor in Real Property Law,
  discuss current projects she is working on and other areas of interest to her in a relaxed setting. Professor Blais is a Co-Director of the Supreme Court Clinic. In addition, she teaches Administrative Law, Environmental Law, and Property. Her research focuses on the allocation of property rights and natural resources and the decision making processes underlying these allocations.Lunch will be served. RSVP to Gena Dawson at gdawson@law.utexas.edu.</p><p>If you need an accommodation to participate in this event, please contact the event
                                          event sponsor or the Texas Law Special Events Office at <a href="mailto:specialevents@law.utexas.edu">specialevents@law.utexas.edu</a> no later than seven business days prior to the event.</p>
CATEGORIES:Lunch
LOCATION:CCJ 2.310 - Jury Room
URL:http://law.utexas.edu/calendar/2012/01/26/13483/
CLASS:PUBLIC
STATUS:CONFIRMED

END:VEVENT
END:VCALENDAR