BEGIN:VCALENDAR
VERSION:2.0
PRODID:-//UNIVERSITY OF TEXAS SCHOOL OF LAW//NONSGML Events Calendar v1.0//EN
X-WR-TIMEZONE:America/Chicago
BEGIN:VTIMEZONE
TZID:US/Central
X-LIC-LOCATION:America/Chicago
BEGIN:DAYLIGHT
TZOFFSETFROM:-0600
TZOFFSETTO:-0500
TZNAME:CDT
DTSTART:19700308T020000
RRULE:FREQ=YEARLY;BYMONTH=3;BYDAY=2SU
END:DAYLIGHT
BEGIN:STANDARD
TZOFFSETFROM:-0500
TZOFFSETTO:-0600
TZNAME:CST
DTSTART:19701101T020000
RRULE:FREQ=YEARLY;BYMONTH=11;BYDAY=1SU
END:STANDARD
END:VTIMEZONE
BEGIN:VEVENT
DTSTART;TZID=US/Central:20120126T170000
DTEND;VALUE=DATE-TIME;TZID=US/Central:20120126T180000

DTSTAMP:20260423T174800Z
CREATED:20120118T225900Z
LAST-MODIFIED:20120124T181500Z
UID:20120126T170000-13518@law.utexas.edu
SUMMARY:Access to Justice Seminar
DESCRIPTION:<p>Learn about practicing as a legal aid attorney, internship opportunities through the Texas Access to Justice Commission and the State Bar of Texas, and about the Student Loan Repayment Assistance Program. Panelists include Mary Christine Reed ‘93, Attorney and Team Manager for Foster Youth Project at <a href="http://www.trla.org/">Texas RioGrande Legal Aid</a>; Hannah Silk Kapasi, Staff Attorney, <a href="http://www.texasatj.org/">Texas Access to Justice Commission</a>; and Adriana Corral, ’13. Refreshments will be served. Sponsored by the <a href="http://www.texasbar.com/AM/Template.cfm?Section=Law_Student_Info">State Bar of Texas Law Student Division</a> and UT Law Career Services Office.</p>
  <p>RSVP on Eventbrite at <a href="http://accessjustice.eventbrite.com/">http://accessjustice.eventbrite.com</a>.</p>\n\nIf you need an accommodation to participate in this event, please contact the event sponsor or the Texas Law Special Events Office at specialevents@law.utexas.edu no later than seven business days prior to the event.
X-ALT-DESC;FMTTYPE=text/html:<p>Learn about practicing as a legal aid attorney, internship opportunities through the Texas Access to Justice Commission and the State Bar of Texas, and about the Student Loan Repayment Assistance Program. Panelists include Mary Christine Reed ‘93, Attorney and Team Manager for Foster Youth Project at <a href="http://www.trla.org/">Texas RioGrande Legal Aid</a>; Hannah Silk Kapasi, Staff Attorney, <a href="http://www.texasatj.org/">Texas Access to Justice Commission</a>; and Adriana Corral, ’13. Refreshments will be served. Sponsored by the <a href="http://www.texasbar.com/AM/Template.cfm?Section=Law_Student_Info">State Bar of Texas Law Student Division</a> and UT Law Career Services Office.</p>
  <p>RSVP on Eventbrite at <a href="http://accessjustice.eventbrite.com/">http://accessjustice.eventbrite.com</a>.</p><p>If you need an accommodation to participate in this event, please contact the event
                                          event sponsor or the Texas Law Special Events Office at <a href="mailto:specialevents@law.utexas.edu">specialevents@law.utexas.edu</a> no later than seven business days prior to the event.</p>
CATEGORIES:Panel Discussion / Speaker Series
LOCATION:CCJ 2.306 - Eidman Courtroom
URL:http://law.utexas.edu/calendar/2012/01/26/13518/
CLASS:PUBLIC
STATUS:CONFIRMED
COMMENT:Please contact Michael Marek at <a href="mailto:michael.p.marek@gmail.com">michael.p.marek@gmail.com</a>.
END:VEVENT
END:VCALENDAR