BEGIN:VCALENDAR
VERSION:2.0
PRODID:-//UNIVERSITY OF TEXAS SCHOOL OF LAW//NONSGML Events Calendar v1.0//EN
X-WR-TIMEZONE:America/Chicago
BEGIN:VTIMEZONE
TZID:US/Central
X-LIC-LOCATION:America/Chicago
BEGIN:DAYLIGHT
TZOFFSETFROM:-0600
TZOFFSETTO:-0500
TZNAME:CDT
DTSTART:19700308T020000
RRULE:FREQ=YEARLY;BYMONTH=3;BYDAY=2SU
END:DAYLIGHT
BEGIN:STANDARD
TZOFFSETFROM:-0500
TZOFFSETTO:-0600
TZNAME:CST
DTSTART:19701101T020000
RRULE:FREQ=YEARLY;BYMONTH=11;BYDAY=1SU
END:STANDARD
END:VTIMEZONE
BEGIN:VEVENT
DTSTART;TZID=US/Central:20120130
DTEND;TZID=US/Central:20120131
X-MICROSOFT-CDO-ALLDAYEVENT:TRUE
X-FUNAMBOL-ALLDAY:TRUE
DTSTAMP:20260423T174800Z
CREATED:20101021T212600Z
LAST-MODIFIED:20101021T212900Z
UID:20120130T000000-9229@law.utexas.edu
SUMMARY:TX July '12 Bar Exam App Timely Deadline
DESCRIPTION:<p><strong>Reminder for 3Ls planning to sit for the Texas July 2012 Bar Exam</strong>: in order for your <a href="http://www.ble.state.tx.us/applications/instate/instate_main.htm">In-State Application to Take the TX Bar Exam</a> to be considered timely-filed it must be postmarked by Jan. 30, 2012.  This deadline is strictly enforced.  A $150 late fee will apply for all applications filed after Jan. 30 and up to the March 30, 2012 absolute postmark deadline.</p>
  <p>Applicants who have not yet filed their <a href="http://www.ble.state.tx.us/applications/declaration/decl_main.htm">Declaration of Intention to Study Law</a> must do so prior to or with their In-State Application.</p>\n\nIf you need an accommodation to participate in this event, please contact the event sponsor or the Texas Law Special Events Office at specialevents@law.utexas.edu no later than seven business days prior to the event.
X-ALT-DESC;FMTTYPE=text/html:<p><strong>Reminder for 3Ls planning to sit for the Texas July 2012 Bar Exam</strong>: in order for your <a href="http://www.ble.state.tx.us/applications/instate/instate_main.htm">In-State Application to Take the TX Bar Exam</a> to be considered timely-filed it must be postmarked by Jan. 30, 2012.  This deadline is strictly enforced.  A $150 late fee will apply for all applications filed after Jan. 30 and up to the March 30, 2012 absolute postmark deadline.</p>
  <p>Applicants who have not yet filed their <a href="http://www.ble.state.tx.us/applications/declaration/decl_main.htm">Declaration of Intention to Study Law</a> must do so prior to or with their In-State Application.</p><p>If you need an accommodation to participate in this event, please contact the event
                                          event sponsor or the Texas Law Special Events Office at <a href="mailto:specialevents@law.utexas.edu">specialevents@law.utexas.edu</a> no later than seven business days prior to the event.</p>


URL:http://law.utexas.edu/calendar/2012/01/30/9229/
CLASS:PUBLIC
STATUS:CONFIRMED

END:VEVENT
END:VCALENDAR