BEGIN:VCALENDAR
VERSION:2.0
PRODID:-//UNIVERSITY OF TEXAS SCHOOL OF LAW//NONSGML Events Calendar v1.0//EN
X-WR-TIMEZONE:America/Chicago
BEGIN:VTIMEZONE
TZID:US/Central
X-LIC-LOCATION:America/Chicago
BEGIN:DAYLIGHT
TZOFFSETFROM:-0600
TZOFFSETTO:-0500
TZNAME:CDT
DTSTART:19700308T020000
RRULE:FREQ=YEARLY;BYMONTH=3;BYDAY=2SU
END:DAYLIGHT
BEGIN:STANDARD
TZOFFSETFROM:-0500
TZOFFSETTO:-0600
TZNAME:CST
DTSTART:19701101T020000
RRULE:FREQ=YEARLY;BYMONTH=11;BYDAY=1SU
END:STANDARD
END:VTIMEZONE
BEGIN:VEVENT
DTSTART;TZID=US/Central:20120208T153000
DTEND;VALUE=DATE-TIME;TZID=US/Central:20120208T163000

DTSTAMP:20260423T174800Z
CREATED:20120203T202500Z
LAST-MODIFIED:20120203T203300Z
UID:20120208T153000-13703@law.utexas.edu
SUMMARY:3L Early Bar Prep - Attack the MBE
DESCRIPTION:<p>The bar exam includes The Multistate Bar Exam (MBE), which is 200 multiple choice questions in six basic ares of law. Learn the skills you'll need (and can practice now!) to do well on this part of the bar.</p>\n\nIf you need an accommodation to participate in this event, please contact the event sponsor or the Texas Law Special Events Office at specialevents@law.utexas.edu no later than seven business days prior to the event.
X-ALT-DESC;FMTTYPE=text/html:<p>The bar exam includes The Multistate Bar Exam (MBE), which is 200 multiple choice questions in six basic ares of law. Learn the skills you'll need (and can practice now!) to do well on this part of the bar.</p><p>If you need an accommodation to participate in this event, please contact the event
                                          event sponsor or the Texas Law Special Events Office at <a href="mailto:specialevents@law.utexas.edu">specialevents@law.utexas.edu</a> no later than seven business days prior to the event.</p>
CATEGORIES:Workshop / Training Program
LOCATION:TNH 2.140 - Wright Classroom
URL:http://law.utexas.edu/calendar/2012/02/08/13703/
CLASS:PUBLIC
STATUS:CONFIRMED

END:VEVENT
END:VCALENDAR