BEGIN:VCALENDAR
VERSION:2.0
PRODID:-//UNIVERSITY OF TEXAS SCHOOL OF LAW//NONSGML Events Calendar v1.0//EN
X-WR-TIMEZONE:America/Chicago
BEGIN:VTIMEZONE
TZID:US/Central
X-LIC-LOCATION:America/Chicago
BEGIN:DAYLIGHT
TZOFFSETFROM:-0600
TZOFFSETTO:-0500
TZNAME:CDT
DTSTART:19700308T020000
RRULE:FREQ=YEARLY;BYMONTH=3;BYDAY=2SU
END:DAYLIGHT
BEGIN:STANDARD
TZOFFSETFROM:-0500
TZOFFSETTO:-0600
TZNAME:CST
DTSTART:19701101T020000
RRULE:FREQ=YEARLY;BYMONTH=11;BYDAY=1SU
END:STANDARD
END:VTIMEZONE
BEGIN:VEVENT
DTSTART;TZID=US/Central:20120208T160000
DTEND;VALUE=DATE-TIME;TZID=US/Central:20120208T180000

DTSTAMP:20260423T174700Z
CREATED:20120206T213500Z
LAST-MODIFIED:20120206T213500Z
UID:20120208T160000-13737@law.utexas.edu
SUMMARY:Human Rights Law Society film screening
DESCRIPTION:<p>Join us on Wednesday as we watch and discuss "Demand," a 45-minute documentary film by Shared Hope International, about the economic side of sex trafficking. The film will be shown in TNH 2.124 at 4pm with a discussion (and pizza) afterwards in TNH 3.119F at 5pm. This is the first in a series of events organized by the Human Rights Law Society about human trafficking.</p>\n\nIf you need an accommodation to participate in this event, please contact the event sponsor or the Texas Law Special Events Office at specialevents@law.utexas.edu no later than seven business days prior to the event.
X-ALT-DESC;FMTTYPE=text/html:<p>Join us on Wednesday as we watch and discuss "Demand," a 45-minute documentary film by Shared Hope International, about the economic side of sex trafficking. The film will be shown in TNH 2.124 at 4pm with a discussion (and pizza) afterwards in TNH 3.119F at 5pm. This is the first in a series of events organized by the Human Rights Law Society about human trafficking.</p><p>If you need an accommodation to participate in this event, please contact the event
                                          event sponsor or the Texas Law Special Events Office at <a href="mailto:specialevents@law.utexas.edu">specialevents@law.utexas.edu</a> no later than seven business days prior to the event.</p>
CATEGORIES:Meeting
LOCATION:3.119F
URL:http://law.utexas.edu/calendar/2012/02/08/13737/
CLASS:PUBLIC
STATUS:CONFIRMED

END:VEVENT
END:VCALENDAR