BEGIN:VCALENDAR
VERSION:2.0
PRODID:-//UNIVERSITY OF TEXAS SCHOOL OF LAW//NONSGML Events Calendar v1.0//EN
X-WR-TIMEZONE:America/Chicago
BEGIN:VTIMEZONE
TZID:US/Central
X-LIC-LOCATION:America/Chicago
BEGIN:DAYLIGHT
TZOFFSETFROM:-0600
TZOFFSETTO:-0500
TZNAME:CDT
DTSTART:19700308T020000
RRULE:FREQ=YEARLY;BYMONTH=3;BYDAY=2SU
END:DAYLIGHT
BEGIN:STANDARD
TZOFFSETFROM:-0500
TZOFFSETTO:-0600
TZNAME:CST
DTSTART:19701101T020000
RRULE:FREQ=YEARLY;BYMONTH=11;BYDAY=1SU
END:STANDARD
END:VTIMEZONE
BEGIN:VEVENT
DTSTART;TZID=US/Central:20120217T121500
DTEND;VALUE=DATE-TIME;TZID=US/Central:20120217T131500

DTSTAMP:20260423T174900Z
CREATED:20120215T000400Z
LAST-MODIFIED:20120215T000800Z
UID:20120217T121500-13797@law.utexas.edu
SUMMARY:Mexico's Next Presidential Elections
DESCRIPTION:<p>The LBJ School of Public Affairs and the School of Law invite you to a lecture in the Mexico Watch 2012 Series: The July 1st Presidential Elections, featuring Dr. Manuel González Oropeza, Minister of the Tribunal Electoral del Poder Judicial de la Federación.
  Light refreshments will be served.</p>\n\nIf you need an accommodation to participate in this event, please contact the event sponsor or the Texas Law Special Events Office at specialevents@law.utexas.edu no later than seven business days prior to the event.
X-ALT-DESC;FMTTYPE=text/html:<p>The LBJ School of Public Affairs and the School of Law invite you to a lecture in the Mexico Watch 2012 Series: The July 1st Presidential Elections, featuring Dr. Manuel González Oropeza, Minister of the Tribunal Electoral del Poder Judicial de la Federación.
  Light refreshments will be served.</p><p>If you need an accommodation to participate in this event, please contact the event
                                          event sponsor or the Texas Law Special Events Office at <a href="mailto:specialevents@law.utexas.edu">specialevents@law.utexas.edu</a> no later than seven business days prior to the event.</p>
CATEGORIES:Lunch
LOCATION:TNH 2.111 - Sheffield-Massey Room
URL:http://law.utexas.edu/calendar/2012/02/17/13797/
CLASS:PUBLIC
STATUS:CONFIRMED
COMMENT:Contact peter.ward@mail.utexas.edu
END:VEVENT
END:VCALENDAR