BEGIN:VCALENDAR
VERSION:2.0
PRODID:-//UNIVERSITY OF TEXAS SCHOOL OF LAW//NONSGML Events Calendar v1.0//EN
X-WR-TIMEZONE:America/Chicago
BEGIN:VTIMEZONE
TZID:US/Central
X-LIC-LOCATION:America/Chicago
BEGIN:DAYLIGHT
TZOFFSETFROM:-0600
TZOFFSETTO:-0500
TZNAME:CDT
DTSTART:19700308T020000
RRULE:FREQ=YEARLY;BYMONTH=3;BYDAY=2SU
END:DAYLIGHT
BEGIN:STANDARD
TZOFFSETFROM:-0500
TZOFFSETTO:-0600
TZNAME:CST
DTSTART:19701101T020000
RRULE:FREQ=YEARLY;BYMONTH=11;BYDAY=1SU
END:STANDARD
END:VTIMEZONE
BEGIN:VEVENT
DTSTART;TZID=US/Central:20120222T103000


DTSTAMP:20260423T162600Z
CREATED:20120130T223300Z
LAST-MODIFIED:20120214T225200Z
UID:20120222T103000-13663@law.utexas.edu
SUMMARY:VolleyBar Review - LAW WEEK - Wednesday
DESCRIPTION:<p>Calling all Volleyball Stars and Starlets: </p>
  <p>In lieu of a bar review next week, Delta Theta Phi will be hosting its second annual VolleyBar Review: A Charity Fundraiser Volleyball Tournament on WEDNESDAY 2/22! Last year's event was a great success, and with amazing participation from journals, student orgs, and affinity groups we raised over $1000 for Volunteer Legal Services of Central Texas. So, get your team (or teams, if you dare) prepared and register every day in the atrium before next Wednesday! </p>
  <p>Where: Aussie's Grill &amp; Beach Bar, 306 Barton Springs Rd
    
  When: Wednesday, February 22, 2012
  Tournament: 8:00PM-12:30AM
  Bar Review: 8:00PM - 2:00AM</p>
  <p>      Benefitting: Volunteer Legal Services of Central Texas </p>
  <p>Drink Specials: 
  Free drink tickets for tournament participants and early spectators, sponsored by Kaplan
  $3 Ritas; rocks or frozen
  $3 Land Shark and Dos XX pints
  $2 “Throwback” Cans (PBR, Lone Star, Keystone Lt.)</p>
  <p>Cost: Come cheer for free, or enter the tournament for:  
  $10/person or $40/team of 4 (Non-DTP members)
  $5/person or $20/team of 4 (Current DTP members) 
  FREE for New DTP members (Stop by the atrium table for membership information)  
  Tournament entry includes a T-shirt and drink ticket for each tournament participant! </p>
  <p>Prizes: 
  Grand Prize: Engraved trophy, $1000 off Kaplan Bar Review Course for winning team
        Best Team Theme: Crown &amp; Anchor Gift cards
        Various gift cards for Second Place, Semi-finalists, MVP,  Spike of the Night, and Best Volleyball Attire (multiple!)</p>
  <p>So come out, drink, be merry, and dominate the lesser student orgs on the sand-court. Now we can establish the true pecking order of the journals and orgs, once and for all (well, until next year).</p>
  <p>Questions? Ask the Coach at texasdtp@gmail.com</p>
  <p>44th Annual W. Page Keeton
  LAW WEEK 2012
  sponsored by the Student Bar Association</p>
  <p>Law Week is filled with awesome social events, building community, and supporting local charities!</p>
  <p>**Law Week Schedule**
  Casino Night tickets will be on sale in the Atrium 10:30-2:30 M-Th!</p>
  <p>MONDAY
  10:30 a.m. Clothing &amp; Book Drive Kickoff: bring a used book or clothing item in exchange for a FREE LAW WEEK TSHIRT!
  10:30 a.m. Tag Jurisdiction Kickoff: assassins-like competition, email tag.jurisdiction@gmail.com to sign up, grand prize of 2 Casino Night Tickets!
  3:30 p.m. Pizza with the Interim Dean</p>
  <p>TUESDAY
  10:30 a.m. Meet &amp; Greet with the SBA and Free Breakfast Tacos</p>
  <p>WEDNESDAY
  VolleyBar Review evening: hosted by Delta Theta Phi, details TBA</p>
  <p>THURSDAY
  10:30 a.m. - 2:30 p.m. Blood Drive in the Atrium</p>
  <p>FRIDAY
  10:00 p.m. - 2:00 a.m. Casino Night: at the Austin Hilton, tickets on sale at the door and in the Atrium M-Th 10:30-2:30
  <a href="https://www.facebook.com/events/132904776827331/">https://www.facebook.com/events/132904776827331/</a></p>
  <p>SATURDAY
  8:00 a.m. - 2:00 p.m. People's Law School: volunteers needed! email texas.sba@gmail.com, P.Terry's gift cards for those who sign up for the 8:00a.m. shift!</p>\n\nIf you need an accommodation to participate in this event, please contact the event sponsor or the Texas Law Special Events Office at specialevents@law.utexas.edu no later than seven business days prior to the event.
X-ALT-DESC;FMTTYPE=text/html:<p>Calling all Volleyball Stars and Starlets: </p>
  <p>In lieu of a bar review next week, Delta Theta Phi will be hosting its second annual VolleyBar Review: A Charity Fundraiser Volleyball Tournament on WEDNESDAY 2/22! Last year's event was a great success, and with amazing participation from journals, student orgs, and affinity groups we raised over $1000 for Volunteer Legal Services of Central Texas. So, get your team (or teams, if you dare) prepared and register every day in the atrium before next Wednesday! </p>
  <p>Where: Aussie's Grill &amp; Beach Bar, 306 Barton Springs Rd
    
  When: Wednesday, February 22, 2012
  Tournament: 8:00PM-12:30AM
  Bar Review: 8:00PM - 2:00AM</p>
  <p>      Benefitting: Volunteer Legal Services of Central Texas </p>
  <p>Drink Specials: 
  Free drink tickets for tournament participants and early spectators, sponsored by Kaplan
  $3 Ritas; rocks or frozen
  $3 Land Shark and Dos XX pints
  $2 “Throwback” Cans (PBR, Lone Star, Keystone Lt.)</p>
  <p>Cost: Come cheer for free, or enter the tournament for:  
  $10/person or $40/team of 4 (Non-DTP members)
  $5/person or $20/team of 4 (Current DTP members) 
  FREE for New DTP members (Stop by the atrium table for membership information)  
  Tournament entry includes a T-shirt and drink ticket for each tournament participant! </p>
  <p>Prizes: 
  Grand Prize: Engraved trophy, $1000 off Kaplan Bar Review Course for winning team
        Best Team Theme: Crown &amp; Anchor Gift cards
        Various gift cards for Second Place, Semi-finalists, MVP,  Spike of the Night, and Best Volleyball Attire (multiple!)</p>
  <p>So come out, drink, be merry, and dominate the lesser student orgs on the sand-court. Now we can establish the true pecking order of the journals and orgs, once and for all (well, until next year).</p>
  <p>Questions? Ask the Coach at texasdtp@gmail.com</p>
  <p>44th Annual W. Page Keeton
  LAW WEEK 2012
  sponsored by the Student Bar Association</p>
  <p>Law Week is filled with awesome social events, building community, and supporting local charities!</p>
  <p>**Law Week Schedule**
  Casino Night tickets will be on sale in the Atrium 10:30-2:30 M-Th!</p>
  <p>MONDAY
  10:30 a.m. Clothing &amp; Book Drive Kickoff: bring a used book or clothing item in exchange for a FREE LAW WEEK TSHIRT!
  10:30 a.m. Tag Jurisdiction Kickoff: assassins-like competition, email tag.jurisdiction@gmail.com to sign up, grand prize of 2 Casino Night Tickets!
  3:30 p.m. Pizza with the Interim Dean</p>
  <p>TUESDAY
  10:30 a.m. Meet &amp; Greet with the SBA and Free Breakfast Tacos</p>
  <p>WEDNESDAY
  VolleyBar Review evening: hosted by Delta Theta Phi, details TBA</p>
  <p>THURSDAY
  10:30 a.m. - 2:30 p.m. Blood Drive in the Atrium</p>
  <p>FRIDAY
  10:00 p.m. - 2:00 a.m. Casino Night: at the Austin Hilton, tickets on sale at the door and in the Atrium M-Th 10:30-2:30
  <a href="https://www.facebook.com/events/132904776827331/">https://www.facebook.com/events/132904776827331/</a></p>
  <p>SATURDAY
  8:00 a.m. - 2:00 p.m. People's Law School: volunteers needed! email texas.sba@gmail.com, P.Terry's gift cards for those who sign up for the 8:00a.m. shift!</p><p>If you need an accommodation to participate in this event, please contact the event
                                          event sponsor or the Texas Law Special Events Office at <a href="mailto:specialevents@law.utexas.edu">specialevents@law.utexas.edu</a> no later than seven business days prior to the event.</p>

LOCATION:TNH 2.100 - Susman Godfrey Atrium
URL:http://law.utexas.edu/calendar/2012/02/22/13663/
CLASS:PUBLIC
STATUS:CONFIRMED

END:VEVENT
END:VCALENDAR