BEGIN:VCALENDAR
VERSION:2.0
PRODID:-//UNIVERSITY OF TEXAS SCHOOL OF LAW//NONSGML Events Calendar v1.0//EN
X-WR-TIMEZONE:America/Chicago
BEGIN:VTIMEZONE
TZID:US/Central
X-LIC-LOCATION:America/Chicago
BEGIN:DAYLIGHT
TZOFFSETFROM:-0600
TZOFFSETTO:-0500
TZNAME:CDT
DTSTART:19700308T020000
RRULE:FREQ=YEARLY;BYMONTH=3;BYDAY=2SU
END:DAYLIGHT
BEGIN:STANDARD
TZOFFSETFROM:-0500
TZOFFSETTO:-0600
TZNAME:CST
DTSTART:19701101T020000
RRULE:FREQ=YEARLY;BYMONTH=11;BYDAY=1SU
END:STANDARD
END:VTIMEZONE
BEGIN:VEVENT
DTSTART;TZID=US/Central:20120223T120000
DTEND;VALUE=DATE-TIME;TZID=US/Central:20120223T160000

DTSTAMP:20260423T162600Z
CREATED:20120130T180200Z
LAST-MODIFIED:20120220T221900Z
UID:20120223T120000-13653@law.utexas.edu
SUMMARY:International Arbitration in Latin Am.
DESCRIPTION:<p>With the rise of globalization and international investment, a new field of international law has developed rapidly that defines the obligations of host states toward foreign investors.  This symposium will focus on recent developments in international arbitrations arising between investors and Latin American governments.  Please join us at noon in the Jamail Pavilion for lunch and then the symposium from 1-4 in JON 5.206.  </p>
  <p>Seating is limited. Please RSVP to Gena Dawson gdawson@law.utexas.edu. </p>\n\nIf you need an accommodation to participate in this event, please contact the event sponsor or the Texas Law Special Events Office at specialevents@law.utexas.edu no later than seven business days prior to the event.
X-ALT-DESC;FMTTYPE=text/html:<p>With the rise of globalization and international investment, a new field of international law has developed rapidly that defines the obligations of host states toward foreign investors.  This symposium will focus on recent developments in international arbitrations arising between investors and Latin American governments.  Please join us at noon in the Jamail Pavilion for lunch and then the symposium from 1-4 in JON 5.206.  </p>
  <p>Seating is limited. Please RSVP to Gena Dawson gdawson@law.utexas.edu. </p><p>If you need an accommodation to participate in this event, please contact the event
                                          event sponsor or the Texas Law Special Events Office at <a href="mailto:specialevents@law.utexas.edu">specialevents@law.utexas.edu</a> no later than seven business days prior to the event.</p>
CATEGORIES:Panel Discussion / Speaker Series
LOCATION:CCJ 2.300 - Jamail Pavilion
URL:http://law.utexas.edu/calendar/2012/02/23/13653/
CLASS:PUBLIC
STATUS:CONFIRMED

END:VEVENT
END:VCALENDAR