BEGIN:VCALENDAR
VERSION:2.0
PRODID:-//UNIVERSITY OF TEXAS SCHOOL OF LAW//NONSGML Events Calendar v1.0//EN
X-WR-TIMEZONE:America/Chicago
BEGIN:VTIMEZONE
TZID:US/Central
X-LIC-LOCATION:America/Chicago
BEGIN:DAYLIGHT
TZOFFSETFROM:-0600
TZOFFSETTO:-0500
TZNAME:CDT
DTSTART:19700308T020000
RRULE:FREQ=YEARLY;BYMONTH=3;BYDAY=2SU
END:DAYLIGHT
BEGIN:STANDARD
TZOFFSETFROM:-0500
TZOFFSETTO:-0600
TZNAME:CST
DTSTART:19701101T020000
RRULE:FREQ=YEARLY;BYMONTH=11;BYDAY=1SU
END:STANDARD
END:VTIMEZONE
BEGIN:VEVENT
DTSTART;TZID=US/Central:20120223T103000


DTSTAMP:20260423T174700Z
CREATED:20120130T223500Z
LAST-MODIFIED:20120211T183100Z
UID:20120223T103000-13664@law.utexas.edu
SUMMARY:LAW WEEK - Thursday
DESCRIPTION:<p>44th Annual W. Page Keeton
  LAW WEEK 2012
  sponsored by the Student Bar Association</p>
  <p>Law Week is filled with awesome social events, building community, and supporting local charities!</p>
  <p>**Law Week Schedule**
  Casino Night tickets will be on sale in the Atrium 10:30-2:30 M-Th!</p>
  <p>MONDAY
  10:30 a.m. Clothing &amp; Book Drive Kickoff: bring a used book or clothing item in exchange for a FREE LAW WEEK TSHIRT!
  10:30 a.m. Tag Jurisdiction Kickoff: assassins-like competition, email tag.jurisdiction@gmail.com to sign up, grand prize of 2 Casino Night Tickets!
  3:30 p.m. Pizza with the Interim Dean</p>
  <p>TUESDAY
  10:30 a.m. Meet &amp; Greet with the SBA and Free Breakfast Tacos</p>
  <p>WEDNESDAY
  VolleyBar Review evening: hosted by Delta Theta Phi, details TBA</p>
  <p>THURSDAY
  10:30 a.m. - 2:30 p.m. Blood Drive in the Atrium</p>
  <p>FRIDAY
  10:00 p.m. - 2:00 a.m. Casino Night: at the Austin Hilton, tickets on sale at the door and in the Atrium M-Th 10:30-2:30
  <a href="https://www.facebook.com/events/132904776827331/">https://www.facebook.com/events/132904776827331/</a></p>
  <p>SATURDAY
  8:00 a.m. - 2:00 p.m. People's Law School: volunteers needed! email texas.sba@gmail.com, P.Terry's gift cards for those who sign up for the 8:00a.m. shift!</p>\n\nIf you need an accommodation to participate in this event, please contact the event sponsor or the Texas Law Special Events Office at specialevents@law.utexas.edu no later than seven business days prior to the event.
X-ALT-DESC;FMTTYPE=text/html:<p>44th Annual W. Page Keeton
  LAW WEEK 2012
  sponsored by the Student Bar Association</p>
  <p>Law Week is filled with awesome social events, building community, and supporting local charities!</p>
  <p>**Law Week Schedule**
  Casino Night tickets will be on sale in the Atrium 10:30-2:30 M-Th!</p>
  <p>MONDAY
  10:30 a.m. Clothing &amp; Book Drive Kickoff: bring a used book or clothing item in exchange for a FREE LAW WEEK TSHIRT!
  10:30 a.m. Tag Jurisdiction Kickoff: assassins-like competition, email tag.jurisdiction@gmail.com to sign up, grand prize of 2 Casino Night Tickets!
  3:30 p.m. Pizza with the Interim Dean</p>
  <p>TUESDAY
  10:30 a.m. Meet &amp; Greet with the SBA and Free Breakfast Tacos</p>
  <p>WEDNESDAY
  VolleyBar Review evening: hosted by Delta Theta Phi, details TBA</p>
  <p>THURSDAY
  10:30 a.m. - 2:30 p.m. Blood Drive in the Atrium</p>
  <p>FRIDAY
  10:00 p.m. - 2:00 a.m. Casino Night: at the Austin Hilton, tickets on sale at the door and in the Atrium M-Th 10:30-2:30
  <a href="https://www.facebook.com/events/132904776827331/">https://www.facebook.com/events/132904776827331/</a></p>
  <p>SATURDAY
  8:00 a.m. - 2:00 p.m. People's Law School: volunteers needed! email texas.sba@gmail.com, P.Terry's gift cards for those who sign up for the 8:00a.m. shift!</p><p>If you need an accommodation to participate in this event, please contact the event
                                          event sponsor or the Texas Law Special Events Office at <a href="mailto:specialevents@law.utexas.edu">specialevents@law.utexas.edu</a> no later than seven business days prior to the event.</p>

LOCATION:TNH 2.100 - Susman Godfrey Atrium
URL:http://law.utexas.edu/calendar/2012/02/23/13664/
CLASS:PUBLIC
STATUS:CONFIRMED

END:VEVENT
END:VCALENDAR