BEGIN:VCALENDAR
VERSION:2.0
PRODID:-//UNIVERSITY OF TEXAS SCHOOL OF LAW//NONSGML Events Calendar v1.0//EN
X-WR-TIMEZONE:America/Chicago
BEGIN:VTIMEZONE
TZID:US/Central
X-LIC-LOCATION:America/Chicago
BEGIN:DAYLIGHT
TZOFFSETFROM:-0600
TZOFFSETTO:-0500
TZNAME:CDT
DTSTART:19700308T020000
RRULE:FREQ=YEARLY;BYMONTH=3;BYDAY=2SU
END:DAYLIGHT
BEGIN:STANDARD
TZOFFSETFROM:-0500
TZOFFSETTO:-0600
TZNAME:CST
DTSTART:19701101T020000
RRULE:FREQ=YEARLY;BYMONTH=11;BYDAY=1SU
END:STANDARD
END:VTIMEZONE
BEGIN:VEVENT
DTSTART;TZID=US/Central:20120224T220000


DTSTAMP:20260423T163500Z
CREATED:20111111T014500Z
LAST-MODIFIED:20120214T184400Z
UID:20120224T220000-12900@law.utexas.edu
SUMMARY:Casino Night sponsored by the SBA
DESCRIPTION:<p>Mark your calendars for Casino Night on Friday, February 24, 2012 from 10p.m.-2a.m.  More details to come!</p>
  <p>Tickets will be on sale Monday, 2/20-Thursday 2/23 from 10:30-2:30 in the Atrium.</p>
  <p><a href="http://www.facebook.com/UTLawSBA">http://www.facebook.com/UTLawSBA</a></p>
  <p>Casino Night is the culmination of Law Week 2/20/12-2/24/12.</p>\n\nIf you need an accommodation to participate in this event, please contact the event sponsor or the Texas Law Special Events Office at specialevents@law.utexas.edu no later than seven business days prior to the event.
X-ALT-DESC;FMTTYPE=text/html:<p>Mark your calendars for Casino Night on Friday, February 24, 2012 from 10p.m.-2a.m.  More details to come!</p>
  <p>Tickets will be on sale Monday, 2/20-Thursday 2/23 from 10:30-2:30 in the Atrium.</p>
  <p><a href="http://www.facebook.com/UTLawSBA">http://www.facebook.com/UTLawSBA</a></p>
  <p>Casino Night is the culmination of Law Week 2/20/12-2/24/12.</p><p>If you need an accommodation to participate in this event, please contact the event
                                          event sponsor or the Texas Law Special Events Office at <a href="mailto:specialevents@law.utexas.edu">specialevents@law.utexas.edu</a> no later than seven business days prior to the event.</p>
CATEGORIES:Other

URL:http://law.utexas.edu/calendar/2012/02/24/12900/
CLASS:PUBLIC
STATUS:CONFIRMED
COMMENT:jackie.ammons1@gmail.com
END:VEVENT
END:VCALENDAR