BEGIN:VCALENDAR
VERSION:2.0
PRODID:-//UNIVERSITY OF TEXAS SCHOOL OF LAW//NONSGML Events Calendar v1.0//EN
X-WR-TIMEZONE:America/Chicago
BEGIN:VTIMEZONE
TZID:US/Central
X-LIC-LOCATION:America/Chicago
BEGIN:DAYLIGHT
TZOFFSETFROM:-0600
TZOFFSETTO:-0500
TZNAME:CDT
DTSTART:19700308T020000
RRULE:FREQ=YEARLY;BYMONTH=3;BYDAY=2SU
END:DAYLIGHT
BEGIN:STANDARD
TZOFFSETFROM:-0500
TZOFFSETTO:-0600
TZNAME:CST
DTSTART:19701101T020000
RRULE:FREQ=YEARLY;BYMONTH=11;BYDAY=1SU
END:STANDARD
END:VTIMEZONE
BEGIN:VEVENT
DTSTART;TZID=US/Central:20120229T153000
DTEND;VALUE=DATE-TIME;TZID=US/Central:20120229T163000

DTSTAMP:20260423T162600Z
CREATED:20120228T144500Z
LAST-MODIFIED:20120228T144600Z
UID:20120229T153000-13994@law.utexas.edu
SUMMARY:Mentor/Society Coordinator Info Session
DESCRIPTION:<p>Are you interested in being a Mentor or Society Coordinator in the Society Program? Join us for an Information Session on Wednesday, February 29 from 3:30 until 4:30 in Room 2.138. Current Mentors and Coordinators will be available to talk about their experiences and answer your questions. We will also talk about the application and selection process. Hope to see you there!</p>\n\nIf you need an accommodation to participate in this event, please contact the event sponsor or the Texas Law Special Events Office at specialevents@law.utexas.edu no later than seven business days prior to the event.
X-ALT-DESC;FMTTYPE=text/html:<p>Are you interested in being a Mentor or Society Coordinator in the Society Program? Join us for an Information Session on Wednesday, February 29 from 3:30 until 4:30 in Room 2.138. Current Mentors and Coordinators will be available to talk about their experiences and answer your questions. We will also talk about the application and selection process. Hope to see you there!</p><p>If you need an accommodation to participate in this event, please contact the event
                                          event sponsor or the Texas Law Special Events Office at <a href="mailto:specialevents@law.utexas.edu">specialevents@law.utexas.edu</a> no later than seven business days prior to the event.</p>
CATEGORIES:Meeting
LOCATION:TNH 2.138 - Blanton Classroom
URL:http://law.utexas.edu/calendar/2012/02/29/13994/
CLASS:PUBLIC
STATUS:CONFIRMED

END:VEVENT
END:VCALENDAR