BEGIN:VCALENDAR
VERSION:2.0
PRODID:-//UNIVERSITY OF TEXAS SCHOOL OF LAW//NONSGML Events Calendar v1.0//EN
X-WR-TIMEZONE:America/Chicago
BEGIN:VTIMEZONE
TZID:US/Central
X-LIC-LOCATION:America/Chicago
BEGIN:DAYLIGHT
TZOFFSETFROM:-0600
TZOFFSETTO:-0500
TZNAME:CDT
DTSTART:19700308T020000
RRULE:FREQ=YEARLY;BYMONTH=3;BYDAY=2SU
END:DAYLIGHT
BEGIN:STANDARD
TZOFFSETFROM:-0500
TZOFFSETTO:-0600
TZNAME:CST
DTSTART:19701101T020000
RRULE:FREQ=YEARLY;BYMONTH=11;BYDAY=1SU
END:STANDARD
END:VTIMEZONE
BEGIN:VEVENT
DTSTART;TZID=US/Central:20120301T123000
DTEND;VALUE=DATE-TIME;TZID=US/Central:20120301T133000

DTSTAMP:20260423T134100Z
CREATED:20120113T201000Z
LAST-MODIFIED:20120301T162000Z
UID:20120301T123000-13485@law.utexas.edu
SUMMARY:Careers in International Arbitration
DESCRIPTION:<p>Listen to Andrés Jana of Bofill, Mir &amp; Alvarez in Santiago, Chile discuss possible paths to careers in international arbitration. Mr. Jana is one of the leading experts in Latin America on the law of international arbitration. He currently serves as Chile’s delegate to the United Nations Convention on International Trade Law.</p>
  <p>Lunch will be provided. </p>
  <p>Please RSVP to Gena Dawson at gdawson@law.utexas.edu. </p>\n\nIf you need an accommodation to participate in this event, please contact the event sponsor or the Texas Law Special Events Office at specialevents@law.utexas.edu no later than seven business days prior to the event.
X-ALT-DESC;FMTTYPE=text/html:<p>Listen to Andrés Jana of Bofill, Mir &amp; Alvarez in Santiago, Chile discuss possible paths to careers in international arbitration. Mr. Jana is one of the leading experts in Latin America on the law of international arbitration. He currently serves as Chile’s delegate to the United Nations Convention on International Trade Law.</p>
  <p>Lunch will be provided. </p>
  <p>Please RSVP to Gena Dawson at gdawson@law.utexas.edu. </p><p>If you need an accommodation to participate in this event, please contact the event
                                          event sponsor or the Texas Law Special Events Office at <a href="mailto:specialevents@law.utexas.edu">specialevents@law.utexas.edu</a> no later than seven business days prior to the event.</p>
CATEGORIES:Lunch
LOCATION:TNH 2.123 - Beck Classroom
URL:http://law.utexas.edu/calendar/2012/03/01/13485/
CLASS:PUBLIC
STATUS:CONFIRMED

END:VEVENT
END:VCALENDAR