BEGIN:VCALENDAR
VERSION:2.0
PRODID:-//UNIVERSITY OF TEXAS SCHOOL OF LAW//NONSGML Events Calendar v1.0//EN
X-WR-TIMEZONE:America/Chicago
BEGIN:VTIMEZONE
TZID:US/Central
X-LIC-LOCATION:America/Chicago
BEGIN:DAYLIGHT
TZOFFSETFROM:-0600
TZOFFSETTO:-0500
TZNAME:CDT
DTSTART:19700308T020000
RRULE:FREQ=YEARLY;BYMONTH=3;BYDAY=2SU
END:DAYLIGHT
BEGIN:STANDARD
TZOFFSETFROM:-0500
TZOFFSETTO:-0600
TZNAME:CST
DTSTART:19701101T020000
RRULE:FREQ=YEARLY;BYMONTH=11;BYDAY=1SU
END:STANDARD
END:VTIMEZONE
BEGIN:VEVENT
DTSTART;TZID=US/Central:20120301T173000
DTEND;VALUE=DATE-TIME;TZID=US/Central:20120301T190000

DTSTAMP:20260423T163500Z
CREATED:20120221T001100Z
LAST-MODIFIED:20120228T194200Z
UID:20120301T173000-13935@law.utexas.edu
SUMMARY:Speed Networking
DESCRIPTION:<p>Back by popular demand! Participating students will have the opportunity to network one-on-one with legal professionals from a variety of practice areas, as well as fellow students, during several short (8-10 minutes) speed networking rounds from 5:30-6:30 p.m.  Due to the structure of the program, we request that participants commit to attend the entire speed networking portion of the event from 5:30-6:30 p.m. There will be a reception with hors d’ouevres following the speed networking portion of the event sponsored by Lateral Link. Dress is business casual.</p>
  <p>Space is limited to the first 50 students who<strong> sign up on <a title="UT Law Symplicity" href="https://law-utexas-csm.symplicity.com/students/">UT Law Symplicity</a> (select the “Events” tab). There will be a waitlist option should the event fill up early.
  </strong></p>\n\nIf you need an accommodation to participate in this event, please contact the event sponsor or the Texas Law Special Events Office at specialevents@law.utexas.edu no later than seven business days prior to the event.
X-ALT-DESC;FMTTYPE=text/html:<p>Back by popular demand! Participating students will have the opportunity to network one-on-one with legal professionals from a variety of practice areas, as well as fellow students, during several short (8-10 minutes) speed networking rounds from 5:30-6:30 p.m.  Due to the structure of the program, we request that participants commit to attend the entire speed networking portion of the event from 5:30-6:30 p.m. There will be a reception with hors d’ouevres following the speed networking portion of the event sponsored by Lateral Link. Dress is business casual.</p>
  <p>Space is limited to the first 50 students who<strong> sign up on <a title="UT Law Symplicity" href="https://law-utexas-csm.symplicity.com/students/">UT Law Symplicity</a> (select the “Events” tab). There will be a waitlist option should the event fill up early.
  </strong></p><p>If you need an accommodation to participate in this event, please contact the event
                                          event sponsor or the Texas Law Special Events Office at <a href="mailto:specialevents@law.utexas.edu">specialevents@law.utexas.edu</a> no later than seven business days prior to the event.</p>
CATEGORIES:Workshop / Training Program
LOCATION:George's Cafe Downstairs
URL:http://law.utexas.edu/calendar/2012/03/01/13935/
CLASS:PUBLIC
STATUS:CONFIRMED
COMMENT:Please contact Angelica Salinas Evans, Associate Director of Career Services, at <a href="mailto:aevans@law.utexas.edu">aevans@law.utexas.edu</a> in the CSO.
END:VEVENT
END:VCALENDAR