BEGIN:VCALENDAR
VERSION:2.0
PRODID:-//UNIVERSITY OF TEXAS SCHOOL OF LAW//NONSGML Events Calendar v1.0//EN
X-WR-TIMEZONE:America/Chicago
BEGIN:VTIMEZONE
TZID:US/Central
X-LIC-LOCATION:America/Chicago
BEGIN:DAYLIGHT
TZOFFSETFROM:-0600
TZOFFSETTO:-0500
TZNAME:CDT
DTSTART:19700308T020000
RRULE:FREQ=YEARLY;BYMONTH=3;BYDAY=2SU
END:DAYLIGHT
BEGIN:STANDARD
TZOFFSETFROM:-0500
TZOFFSETTO:-0600
TZNAME:CST
DTSTART:19701101T020000
RRULE:FREQ=YEARLY;BYMONTH=11;BYDAY=1SU
END:STANDARD
END:VTIMEZONE
BEGIN:VEVENT
DTSTART;TZID=US/Central:20120302T093000
DTEND;VALUE=DATE-TIME;TZID=US/Central:20120302T121500

DTSTAMP:20260423T145700Z
CREATED:20120203T205600Z
LAST-MODIFIED:20120215T185200Z
UID:20120302T093000-13708@law.utexas.edu
SUMMARY:3L Early Bar Prep - Con Law
DESCRIPTION:<p>The bar exam includes 200 multiple choice questions in six basic areas of law, including Conlaw. In this session, students will review basic portions of Con Law with Prof. Erwin Chemerinsky in preparation for the July Bar exam. Students will also answer sample bar questions on Con Law, using skills learned in earlier sessions.
  </p>\n\nIf you need an accommodation to participate in this event, please contact the event sponsor or the Texas Law Special Events Office at specialevents@law.utexas.edu no later than seven business days prior to the event.
X-ALT-DESC;FMTTYPE=text/html:<p>The bar exam includes 200 multiple choice questions in six basic areas of law, including Conlaw. In this session, students will review basic portions of Con Law with Prof. Erwin Chemerinsky in preparation for the July Bar exam. Students will also answer sample bar questions on Con Law, using skills learned in earlier sessions.
  </p><p>If you need an accommodation to participate in this event, please contact the event
                                          event sponsor or the Texas Law Special Events Office at <a href="mailto:specialevents@law.utexas.edu">specialevents@law.utexas.edu</a> no later than seven business days prior to the event.</p>
CATEGORIES:Workshop / Training Program
LOCATION:TNH 2.140 - Wright Classroom
URL:http://law.utexas.edu/calendar/2012/03/02/13708/
CLASS:PUBLIC
STATUS:CONFIRMED

END:VEVENT
END:VCALENDAR