BEGIN:VCALENDAR
VERSION:2.0
PRODID:-//UNIVERSITY OF TEXAS SCHOOL OF LAW//NONSGML Events Calendar v1.0//EN
X-WR-TIMEZONE:America/Chicago
BEGIN:VTIMEZONE
TZID:US/Central
X-LIC-LOCATION:America/Chicago
BEGIN:DAYLIGHT
TZOFFSETFROM:-0600
TZOFFSETTO:-0500
TZNAME:CDT
DTSTART:19700308T020000
RRULE:FREQ=YEARLY;BYMONTH=3;BYDAY=2SU
END:DAYLIGHT
BEGIN:STANDARD
TZOFFSETFROM:-0500
TZOFFSETTO:-0600
TZNAME:CST
DTSTART:19701101T020000
RRULE:FREQ=YEARLY;BYMONTH=11;BYDAY=1SU
END:STANDARD
END:VTIMEZONE
BEGIN:VEVENT
DTSTART;TZID=US/Central:20120304T140000


DTSTAMP:20260423T151700Z
CREATED:20120228T164500Z
LAST-MODIFIED:20120228T164500Z
UID:20120304T140000-13996@law.utexas.edu
SUMMARY:Callback to the Future
DESCRIPTION:<p>A&amp;F presents: "Callback to the Future," an original law school parody musical written by and starring law students.  Intermission will feature a performance by Medley, the law school a capella group.  The show is in the Utopia Theater in the School of Social Work, located at 1925 San Jacinto.  Tickets are available in the atrium or at www.assaultandflattery.com.</p>\n\nIf you need an accommodation to participate in this event, please contact the event sponsor or the Texas Law Special Events Office at specialevents@law.utexas.edu no later than seven business days prior to the event.
X-ALT-DESC;FMTTYPE=text/html:<p>A&amp;F presents: "Callback to the Future," an original law school parody musical written by and starring law students.  Intermission will feature a performance by Medley, the law school a capella group.  The show is in the Utopia Theater in the School of Social Work, located at 1925 San Jacinto.  Tickets are available in the atrium or at www.assaultandflattery.com.</p><p>If you need an accommodation to participate in this event, please contact the event
                                          event sponsor or the Texas Law Special Events Office at <a href="mailto:specialevents@law.utexas.edu">specialevents@law.utexas.edu</a> no later than seven business days prior to the event.</p>
CATEGORIES:Other

URL:http://law.utexas.edu/calendar/2012/03/04/13996/
CLASS:PUBLIC
STATUS:CONFIRMED

END:VEVENT
END:VCALENDAR