BEGIN:VCALENDAR
VERSION:2.0
PRODID:-//UNIVERSITY OF TEXAS SCHOOL OF LAW//NONSGML Events Calendar v1.0//EN
X-WR-TIMEZONE:America/Chicago
BEGIN:VTIMEZONE
TZID:US/Central
X-LIC-LOCATION:America/Chicago
BEGIN:DAYLIGHT
TZOFFSETFROM:-0600
TZOFFSETTO:-0500
TZNAME:CDT
DTSTART:19700308T020000
RRULE:FREQ=YEARLY;BYMONTH=3;BYDAY=2SU
END:DAYLIGHT
BEGIN:STANDARD
TZOFFSETFROM:-0500
TZOFFSETTO:-0600
TZNAME:CST
DTSTART:19701101T020000
RRULE:FREQ=YEARLY;BYMONTH=11;BYDAY=1SU
END:STANDARD
END:VTIMEZONE
BEGIN:VEVENT
DTSTART;TZID=US/Central:20120306T113000
DTEND;VALUE=DATE-TIME;TZID=US/Central:20120306T123000

DTSTAMP:20260423T134100Z
CREATED:20120208T164700Z
LAST-MODIFIED:20120305T215700Z
UID:20120306T113000-13748@law.utexas.edu
SUMMARY:How to Get a Job After Law School
DESCRIPTION:<p>The <a href="http://www.tyla.org/tyla/index.cfm/about/">Texas Young Lawyers Association’s</a> (TYLA) Law Student Outreach Committee will be presenting its job search seminar, "How to Get a Job After Law School: The Unclassified Story," which will give practical advice to students about finding a job.  Of note is the seminar’s focus on students who traditionally do not find employment through on-campus interviews.  Student attendees will receive a TYLA “Tip Card” that contains advice on networking, interviewing, and building a job search strategy.  The Tip Card also contains information about non-legal jobs for lawyers. Pizza will be served. Please RSVP by Monday, March 5, on <a href="https://law-utexas-csm.symplicity.com/students/">UT Law Symplicity</a> by selecting the “Events” tab.</p>
  <p>**The program will be held in the Eidman Courtroom.  Please make note of the change.**</p>\n\nIf you need an accommodation to participate in this event, please contact the event sponsor or the Texas Law Special Events Office at specialevents@law.utexas.edu no later than seven business days prior to the event.
X-ALT-DESC;FMTTYPE=text/html:<p>The <a href="http://www.tyla.org/tyla/index.cfm/about/">Texas Young Lawyers Association’s</a> (TYLA) Law Student Outreach Committee will be presenting its job search seminar, "How to Get a Job After Law School: The Unclassified Story," which will give practical advice to students about finding a job.  Of note is the seminar’s focus on students who traditionally do not find employment through on-campus interviews.  Student attendees will receive a TYLA “Tip Card” that contains advice on networking, interviewing, and building a job search strategy.  The Tip Card also contains information about non-legal jobs for lawyers. Pizza will be served. Please RSVP by Monday, March 5, on <a href="https://law-utexas-csm.symplicity.com/students/">UT Law Symplicity</a> by selecting the “Events” tab.</p>
  <p>**The program will be held in the Eidman Courtroom.  Please make note of the change.**</p><p>If you need an accommodation to participate in this event, please contact the event
                                          event sponsor or the Texas Law Special Events Office at <a href="mailto:specialevents@law.utexas.edu">specialevents@law.utexas.edu</a> no later than seven business days prior to the event.</p>
CATEGORIES:Panel Discussion / Speaker Series

URL:http://law.utexas.edu/calendar/2012/03/06/13748/
CLASS:PUBLIC
STATUS:CONFIRMED

END:VEVENT
END:VCALENDAR