BEGIN:VCALENDAR
VERSION:2.0
PRODID:-//UNIVERSITY OF TEXAS SCHOOL OF LAW//NONSGML Events Calendar v1.0//EN
X-WR-TIMEZONE:America/Chicago
BEGIN:VTIMEZONE
TZID:US/Central
X-LIC-LOCATION:America/Chicago
BEGIN:DAYLIGHT
TZOFFSETFROM:-0600
TZOFFSETTO:-0500
TZNAME:CDT
DTSTART:19700308T020000
RRULE:FREQ=YEARLY;BYMONTH=3;BYDAY=2SU
END:DAYLIGHT
BEGIN:STANDARD
TZOFFSETFROM:-0500
TZOFFSETTO:-0600
TZNAME:CST
DTSTART:19701101T020000
RRULE:FREQ=YEARLY;BYMONTH=11;BYDAY=1SU
END:STANDARD
END:VTIMEZONE
BEGIN:VEVENT
DTSTART;TZID=US/Central:20120307T100000
DTEND;VALUE=DATE-TIME;TZID=US/Central:20120307T140000

DTSTAMP:20260423T135200Z
CREATED:20120222T163700Z
LAST-MODIFIED:20120222T163700Z
UID:20120307T100000-13946@law.utexas.edu
SUMMARY:TLF Pledge Drive
DESCRIPTION:<p>The Spring Pledge Drive is our biggest fundraising event. During the weeks before and after Spring Break, we raise money from around the UT law community. Students donate money so their peers can enter public service. Alumni, faculty, and staff pitch in as well with donations and class incentives. Many law firms match student donations.</p>\n\nIf you need an accommodation to participate in this event, please contact the event sponsor or the Texas Law Special Events Office at specialevents@law.utexas.edu no later than seven business days prior to the event.
X-ALT-DESC;FMTTYPE=text/html:<p>The Spring Pledge Drive is our biggest fundraising event. During the weeks before and after Spring Break, we raise money from around the UT law community. Students donate money so their peers can enter public service. Alumni, faculty, and staff pitch in as well with donations and class incentives. Many law firms match student donations.</p><p>If you need an accommodation to participate in this event, please contact the event
                                          event sponsor or the Texas Law Special Events Office at <a href="mailto:specialevents@law.utexas.edu">specialevents@law.utexas.edu</a> no later than seven business days prior to the event.</p>


URL:http://law.utexas.edu/calendar/2012/03/07/13946/
CLASS:PUBLIC
STATUS:CONFIRMED

END:VEVENT
END:VCALENDAR