BEGIN:VCALENDAR
VERSION:2.0
PRODID:-//UNIVERSITY OF TEXAS SCHOOL OF LAW//NONSGML Events Calendar v1.0//EN
X-WR-TIMEZONE:America/Chicago
BEGIN:VTIMEZONE
TZID:US/Central
X-LIC-LOCATION:America/Chicago
BEGIN:DAYLIGHT
TZOFFSETFROM:-0600
TZOFFSETTO:-0500
TZNAME:CDT
DTSTART:19700308T020000
RRULE:FREQ=YEARLY;BYMONTH=3;BYDAY=2SU
END:DAYLIGHT
BEGIN:STANDARD
TZOFFSETFROM:-0500
TZOFFSETTO:-0600
TZNAME:CST
DTSTART:19701101T020000
RRULE:FREQ=YEARLY;BYMONTH=11;BYDAY=1SU
END:STANDARD
END:VTIMEZONE
BEGIN:VEVENT
DTSTART;TZID=US/Central:20120307T160000
DTEND;VALUE=DATE-TIME;TZID=US/Central:20120307T173000

DTSTAMP:20260423T134200Z
CREATED:20120302T214100Z
LAST-MODIFIED:20120302T215400Z
UID:20120307T160000-14012@law.utexas.edu
SUMMARY:William Kuntsler Documentary Screening
DESCRIPTION:<p>PILA will be screening a documentary about William Kuntsler, one of the most famous social movement lawyers who represented MLK Jr., Malcom X, and Stokely Charmichael, among others. The film was directed and produced by Emily and Sarah Kuntsler. This event is in collaboration with POV, PBS's award-winning nonfiction film series. </p>
  <p>Weds 3/7 from 4:00-5:30 in Jeffers Courtroom, 3.140. </p>\n\nIf you need an accommodation to participate in this event, please contact the event sponsor or the Texas Law Special Events Office at specialevents@law.utexas.edu no later than seven business days prior to the event.
X-ALT-DESC;FMTTYPE=text/html:<p>PILA will be screening a documentary about William Kuntsler, one of the most famous social movement lawyers who represented MLK Jr., Malcom X, and Stokely Charmichael, among others. The film was directed and produced by Emily and Sarah Kuntsler. This event is in collaboration with POV, PBS's award-winning nonfiction film series. </p>
  <p>Weds 3/7 from 4:00-5:30 in Jeffers Courtroom, 3.140. </p><p>If you need an accommodation to participate in this event, please contact the event
                                          event sponsor or the Texas Law Special Events Office at <a href="mailto:specialevents@law.utexas.edu">specialevents@law.utexas.edu</a> no later than seven business days prior to the event.</p>

LOCATION:TNH 3.140 - Jeffers Courtroom
URL:http://law.utexas.edu/calendar/2012/03/07/14012/
CLASS:PUBLIC
STATUS:CONFIRMED

END:VEVENT
END:VCALENDAR