BEGIN:VCALENDAR
VERSION:2.0
PRODID:-//UNIVERSITY OF TEXAS SCHOOL OF LAW//NONSGML Events Calendar v1.0//EN
X-WR-TIMEZONE:America/Chicago
BEGIN:VTIMEZONE
TZID:US/Central
X-LIC-LOCATION:America/Chicago
BEGIN:DAYLIGHT
TZOFFSETFROM:-0600
TZOFFSETTO:-0500
TZNAME:CDT
DTSTART:19700308T020000
RRULE:FREQ=YEARLY;BYMONTH=3;BYDAY=2SU
END:DAYLIGHT
BEGIN:STANDARD
TZOFFSETFROM:-0500
TZOFFSETTO:-0600
TZNAME:CST
DTSTART:19701101T020000
RRULE:FREQ=YEARLY;BYMONTH=11;BYDAY=1SU
END:STANDARD
END:VTIMEZONE
BEGIN:VEVENT
DTSTART;TZID=US/Central:20120309T093000
DTEND;VALUE=DATE-TIME;TZID=US/Central:20120309T103000

DTSTAMP:20260423T145700Z
CREATED:20120203T211100Z
LAST-MODIFIED:20120215T185000Z
UID:20120309T093000-13713@law.utexas.edu
SUMMARY:3L Early Bar Prep-Preparing for the MP
DESCRIPTION:<p>Most bars (including TX, CA and NY) include a performance test - the Multistate Performance Test is most commonly used. The MPT includes a fact pattern, the law that applies to those facts and an assignment for you to complete, typically a memo. Many students ignore the MPT while studying, to their peril. Learn now how to approach the MPT as well as the skills you'll need to pass.
  </p>\n\nIf you need an accommodation to participate in this event, please contact the event sponsor or the Texas Law Special Events Office at specialevents@law.utexas.edu no later than seven business days prior to the event.
X-ALT-DESC;FMTTYPE=text/html:<p>Most bars (including TX, CA and NY) include a performance test - the Multistate Performance Test is most commonly used. The MPT includes a fact pattern, the law that applies to those facts and an assignment for you to complete, typically a memo. Many students ignore the MPT while studying, to their peril. Learn now how to approach the MPT as well as the skills you'll need to pass.
  </p><p>If you need an accommodation to participate in this event, please contact the event
                                          event sponsor or the Texas Law Special Events Office at <a href="mailto:specialevents@law.utexas.edu">specialevents@law.utexas.edu</a> no later than seven business days prior to the event.</p>
CATEGORIES:Workshop / Training Program
LOCATION:TNH 2.140 - Wright Classroom
URL:http://law.utexas.edu/calendar/2012/03/09/13713/
CLASS:PUBLIC
STATUS:CONFIRMED

END:VEVENT
END:VCALENDAR