BEGIN:VCALENDAR
VERSION:2.0
PRODID:-//UNIVERSITY OF TEXAS SCHOOL OF LAW//NONSGML Events Calendar v1.0//EN
X-WR-TIMEZONE:America/Chicago
BEGIN:VTIMEZONE
TZID:US/Central
X-LIC-LOCATION:America/Chicago
BEGIN:DAYLIGHT
TZOFFSETFROM:-0600
TZOFFSETTO:-0500
TZNAME:CDT
DTSTART:19700308T020000
RRULE:FREQ=YEARLY;BYMONTH=3;BYDAY=2SU
END:DAYLIGHT
BEGIN:STANDARD
TZOFFSETFROM:-0500
TZOFFSETTO:-0600
TZNAME:CST
DTSTART:19701101T020000
RRULE:FREQ=YEARLY;BYMONTH=11;BYDAY=1SU
END:STANDARD
END:VTIMEZONE
BEGIN:VEVENT
DTSTART;TZID=US/Central:20120320T113000
DTEND;VALUE=DATE-TIME;TZID=US/Central:20120320T123000

DTSTAMP:20260423T134700Z
CREATED:20120119T002500Z
LAST-MODIFIED:20120319T142600Z
UID:20120320T113000-13524@law.utexas.edu
SUMMARY:Judicial Internships
DESCRIPTION:<p>This program provides information about <a href="http://www.utexas.edu/law/career/judicial/internships.html">judicial internships</a> during school term, in either the fall or spring.  Even if you attended the previous panel on summer judicial internships, we encourage you to take advantage of this program to visit directly with judges and judicial staff over lunch about what interns do in their courts and why judicial internships are valuable. Attendees includes the Honorable Lee Yeakel and his staff attorney Kathryn Baffes, <a title="U.S. District Court for the Western District of Texas" href="http://www.txwd.uscourts.gov/default1.asp">U.S. District Court for the Western District of Texas;</a> the Honorable Christopher Mott and his staff attorney Sarah McHaney, <a title="U.S. Bankruptcy Court for the Western District of Texas" href="http://www.txwb.uscourts.gov/">U.S. Bankruptcy Court for the Western District of Texas</a>; Administrative Law Judges Tommy Broyles and Craig Bennett, <a title="State Office of Administrative Hearings" href="http://www.soah.state.tx.us/index.asp">State Office of Administrative Hearings</a>; Martha Newton, Liz Kozlow, and Jason Nichols, staff attorneys, <a title="Supreme Court of Texas" href="http://www.supreme.courts.state.tx.us/">Supreme Court of Texas</a>; and Anna Dowe, staff attorney, <a title="Texas Court of Criminal Appeals" href="http://www.cca.courts.state.tx.us/">Texas Court of Criminal Appeals</a>.</p>
  <p>Pizza will be served. RSVP on <a title="UT Law Symplicity" href="https://law-utexas-csm.symplicity.com/students/">UT Law Symplicity</a> by Monday, March 19, by selecting the 'Events' tab.</p>\n\nIf you need an accommodation to participate in this event, please contact the event sponsor or the Texas Law Special Events Office at specialevents@law.utexas.edu no later than seven business days prior to the event.
X-ALT-DESC;FMTTYPE=text/html:<p>This program provides information about <a href="http://www.utexas.edu/law/career/judicial/internships.html">judicial internships</a> during school term, in either the fall or spring.  Even if you attended the previous panel on summer judicial internships, we encourage you to take advantage of this program to visit directly with judges and judicial staff over lunch about what interns do in their courts and why judicial internships are valuable. Attendees includes the Honorable Lee Yeakel and his staff attorney Kathryn Baffes, <a title="U.S. District Court for the Western District of Texas" href="http://www.txwd.uscourts.gov/default1.asp">U.S. District Court for the Western District of Texas;</a> the Honorable Christopher Mott and his staff attorney Sarah McHaney, <a title="U.S. Bankruptcy Court for the Western District of Texas" href="http://www.txwb.uscourts.gov/">U.S. Bankruptcy Court for the Western District of Texas</a>; Administrative Law Judges Tommy Broyles and Craig Bennett, <a title="State Office of Administrative Hearings" href="http://www.soah.state.tx.us/index.asp">State Office of Administrative Hearings</a>; Martha Newton, Liz Kozlow, and Jason Nichols, staff attorneys, <a title="Supreme Court of Texas" href="http://www.supreme.courts.state.tx.us/">Supreme Court of Texas</a>; and Anna Dowe, staff attorney, <a title="Texas Court of Criminal Appeals" href="http://www.cca.courts.state.tx.us/">Texas Court of Criminal Appeals</a>.</p>
  <p>Pizza will be served. RSVP on <a title="UT Law Symplicity" href="https://law-utexas-csm.symplicity.com/students/">UT Law Symplicity</a> by Monday, March 19, by selecting the 'Events' tab.</p><p>If you need an accommodation to participate in this event, please contact the event
                                          event sponsor or the Texas Law Special Events Office at <a href="mailto:specialevents@law.utexas.edu">specialevents@law.utexas.edu</a> no later than seven business days prior to the event.</p>
CATEGORIES:Panel Discussion / Speaker Series
LOCATION:CCJ 2.300 - Jamail Pavilion
URL:http://law.utexas.edu/calendar/2012/03/20/13524/
CLASS:PUBLIC
STATUS:CONFIRMED
COMMENT:Please contact Remi Ratliff, Director of Judicial Programs, at 512-232-1163 or <a href="mailto:rrattliff@law.utexas.edu">rratliff@law.utexas.edu</a>.
END:VEVENT
END:VCALENDAR