BEGIN:VCALENDAR
VERSION:2.0
PRODID:-//UNIVERSITY OF TEXAS SCHOOL OF LAW//NONSGML Events Calendar v1.0//EN
X-WR-TIMEZONE:America/Chicago
BEGIN:VTIMEZONE
TZID:US/Central
X-LIC-LOCATION:America/Chicago
BEGIN:DAYLIGHT
TZOFFSETFROM:-0600
TZOFFSETTO:-0500
TZNAME:CDT
DTSTART:19700308T020000
RRULE:FREQ=YEARLY;BYMONTH=3;BYDAY=2SU
END:DAYLIGHT
BEGIN:STANDARD
TZOFFSETFROM:-0500
TZOFFSETTO:-0600
TZNAME:CST
DTSTART:19701101T020000
RRULE:FREQ=YEARLY;BYMONTH=11;BYDAY=1SU
END:STANDARD
END:VTIMEZONE
BEGIN:VEVENT
DTSTART;TZID=US/Central:20120321T160000
DTEND;VALUE=DATE-TIME;TZID=US/Central:20120321T164500

DTSTAMP:20260423T145600Z
CREATED:20120319T140500Z
LAST-MODIFIED:20120319T150900Z
UID:20120321T160000-14113@law.utexas.edu
SUMMARY:1L Advising Session
DESCRIPTION:<p>Early Registration for Fall 2012 begins on March 26. The Student Affairs sponsored session will cover graduation requirements, considerations in choosing courses and instruction on how to use your registration system. This session will repeat on Friday, March 23 at noon in the Auditorium. </p>\n\nIf you need an accommodation to participate in this event, please contact the event sponsor or the Texas Law Special Events Office at specialevents@law.utexas.edu no later than seven business days prior to the event.
X-ALT-DESC;FMTTYPE=text/html:<p>Early Registration for Fall 2012 begins on March 26. The Student Affairs sponsored session will cover graduation requirements, considerations in choosing courses and instruction on how to use your registration system. This session will repeat on Friday, March 23 at noon in the Auditorium. </p><p>If you need an accommodation to participate in this event, please contact the event
                                          event sponsor or the Texas Law Special Events Office at <a href="mailto:specialevents@law.utexas.edu">specialevents@law.utexas.edu</a> no later than seven business days prior to the event.</p>
CATEGORIES:Workshop / Training Program
LOCATION:TNH 2.138 - Blanton Classroom
URL:http://law.utexas.edu/calendar/2012/03/21/14113/
CLASS:PUBLIC
STATUS:CONFIRMED

END:VEVENT
END:VCALENDAR