BEGIN:VCALENDAR
VERSION:2.0
PRODID:-//UNIVERSITY OF TEXAS SCHOOL OF LAW//NONSGML Events Calendar v1.0//EN
X-WR-TIMEZONE:America/Chicago
BEGIN:VTIMEZONE
TZID:US/Central
X-LIC-LOCATION:America/Chicago
BEGIN:DAYLIGHT
TZOFFSETFROM:-0600
TZOFFSETTO:-0500
TZNAME:CDT
DTSTART:19700308T020000
RRULE:FREQ=YEARLY;BYMONTH=3;BYDAY=2SU
END:DAYLIGHT
BEGIN:STANDARD
TZOFFSETFROM:-0500
TZOFFSETTO:-0600
TZNAME:CST
DTSTART:19701101T020000
RRULE:FREQ=YEARLY;BYMONTH=11;BYDAY=1SU
END:STANDARD
END:VTIMEZONE
BEGIN:VEVENT
DTSTART;TZID=US/Central:20120322T181500
DTEND;VALUE=DATE-TIME;TZID=US/Central:20120322T203000

DTSTAMP:20260423T151600Z
CREATED:20120301T221300Z
LAST-MODIFIED:20120301T221300Z
UID:20120322T181500-14008@law.utexas.edu
SUMMARY:1L Etiquette Dinner
DESCRIPTION:<p>Learn the finer points of business dining and protocol over a three-course seated dinner. This free 1L Etiquette Dinner is generously sponsored by <a title="Locke Lord" href="http://www.lockelord.com/">Locke Lord </a>who will be hosting a cocktail reception prior to dinner from 6:15-7:00 p.m. for the 1Ls attending. All guests should be seated for dinner promptly by 7:00 p.m.</p>
  <p>Space is limited! 1L sign-up is on a first-come, first-served basis starting at 10:00 p.m. on Tuesday, March 6, on <a href="https://law-utexas-csm.symplicity.com/students/">UT Law Symplicity</a> by selecting the “Events” tab.</p>\n\nIf you need an accommodation to participate in this event, please contact the event sponsor or the Texas Law Special Events Office at specialevents@law.utexas.edu no later than seven business days prior to the event.
X-ALT-DESC;FMTTYPE=text/html:<p>Learn the finer points of business dining and protocol over a three-course seated dinner. This free 1L Etiquette Dinner is generously sponsored by <a title="Locke Lord" href="http://www.lockelord.com/">Locke Lord </a>who will be hosting a cocktail reception prior to dinner from 6:15-7:00 p.m. for the 1Ls attending. All guests should be seated for dinner promptly by 7:00 p.m.</p>
  <p>Space is limited! 1L sign-up is on a first-come, first-served basis starting at 10:00 p.m. on Tuesday, March 6, on <a href="https://law-utexas-csm.symplicity.com/students/">UT Law Symplicity</a> by selecting the “Events” tab.</p><p>If you need an accommodation to participate in this event, please contact the event
                                          event sponsor or the Texas Law Special Events Office at <a href="mailto:specialevents@law.utexas.edu">specialevents@law.utexas.edu</a> no later than seven business days prior to the event.</p>
CATEGORIES:Dinner
LOCATION:UT Club
URL:http://law.utexas.edu/calendar/2012/03/22/14008/
CLASS:PUBLIC
STATUS:CONFIRMED
COMMENT:Please contact Angelica Salinas Evans, Associate Director of Career Services, at <a href="mailto:aevans@law.utexas.edu">aevans@law.utexas.edu</a> in the CSO.
END:VEVENT
END:VCALENDAR