BEGIN:VCALENDAR
VERSION:2.0
PRODID:-//UNIVERSITY OF TEXAS SCHOOL OF LAW//NONSGML Events Calendar v1.0//EN
X-WR-TIMEZONE:America/Chicago
BEGIN:VTIMEZONE
TZID:US/Central
X-LIC-LOCATION:America/Chicago
BEGIN:DAYLIGHT
TZOFFSETFROM:-0600
TZOFFSETTO:-0500
TZNAME:CDT
DTSTART:19700308T020000
RRULE:FREQ=YEARLY;BYMONTH=3;BYDAY=2SU
END:DAYLIGHT
BEGIN:STANDARD
TZOFFSETFROM:-0500
TZOFFSETTO:-0600
TZNAME:CST
DTSTART:19701101T020000
RRULE:FREQ=YEARLY;BYMONTH=11;BYDAY=1SU
END:STANDARD
END:VTIMEZONE
BEGIN:VEVENT
DTSTART;TZID=US/Central:20120322T113000
DTEND;VALUE=DATE-TIME;TZID=US/Central:20120322T123000

DTSTAMP:20260423T135200Z
CREATED:20120312T152100Z
LAST-MODIFIED:20120320T143800Z
UID:20120322T113000-14072@law.utexas.edu
SUMMARY:Texas Legislative Council Info Session
DESCRIPTION:<p>Mark Kuster ’92, along with others from the <a title="Texas Legislative Council" href="http://www.tlc.state.tx.us/">Texas Legislative Council</a>, will discuss what the Council does and opportunities available for students interested in interning with the agency (see Job Posting 11196). Lunch will be served. RSVP by Tuesday, March 20, on <a title="UT Law Symplicity" href="https://law-utexas-csm.symplicity.com/students/">UT Law Symplicity</a> by selecting the “Events” tab.</p>\n\nIf you need an accommodation to participate in this event, please contact the event sponsor or the Texas Law Special Events Office at specialevents@law.utexas.edu no later than seven business days prior to the event.
X-ALT-DESC;FMTTYPE=text/html:<p>Mark Kuster ’92, along with others from the <a title="Texas Legislative Council" href="http://www.tlc.state.tx.us/">Texas Legislative Council</a>, will discuss what the Council does and opportunities available for students interested in interning with the agency (see Job Posting 11196). Lunch will be served. RSVP by Tuesday, March 20, on <a title="UT Law Symplicity" href="https://law-utexas-csm.symplicity.com/students/">UT Law Symplicity</a> by selecting the “Events” tab.</p><p>If you need an accommodation to participate in this event, please contact the event
                                          event sponsor or the Texas Law Special Events Office at <a href="mailto:specialevents@law.utexas.edu">specialevents@law.utexas.edu</a> no later than seven business days prior to the event.</p>
CATEGORIES:Panel Discussion / Speaker Series
LOCATION:Career Services Interview Suite (TNH 3.122)
URL:http://law.utexas.edu/calendar/2012/03/22/14072/
CLASS:PUBLIC
STATUS:CONFIRMED
COMMENT:Please contact Denyse Demel, Government Career Counselor, at 512-232-1162 or <a href="mailto:ddemel@law.utexas.edu">ddemel@law.utexas.edu</a>.
END:VEVENT
END:VCALENDAR