BEGIN:VCALENDAR
VERSION:2.0
PRODID:-//UNIVERSITY OF TEXAS SCHOOL OF LAW//NONSGML Events Calendar v1.0//EN
X-WR-TIMEZONE:America/Chicago
BEGIN:VTIMEZONE
TZID:US/Central
X-LIC-LOCATION:America/Chicago
BEGIN:DAYLIGHT
TZOFFSETFROM:-0600
TZOFFSETTO:-0500
TZNAME:CDT
DTSTART:19700308T020000
RRULE:FREQ=YEARLY;BYMONTH=3;BYDAY=2SU
END:DAYLIGHT
BEGIN:STANDARD
TZOFFSETFROM:-0500
TZOFFSETTO:-0600
TZNAME:CST
DTSTART:19701101T020000
RRULE:FREQ=YEARLY;BYMONTH=11;BYDAY=1SU
END:STANDARD
END:VTIMEZONE
BEGIN:VEVENT
DTSTART;TZID=US/Central:20120323
DTEND;TZID=US/Central:20120324
X-MICROSOFT-CDO-ALLDAYEVENT:TRUE
X-FUNAMBOL-ALLDAY:TRUE
DTSTAMP:20260423T135200Z
CREATED:20111031T221600Z
LAST-MODIFIED:20111031T221600Z
UID:20120323T000000-12857@law.utexas.edu
SUMMARY:Leadership Boot Camp
DESCRIPTION:<p>The Leadership Boot Camp is a limited enrollment, all-day, intensive workshop for 2Ls, 3Ls, judicial clerks, and LL.M. students.  Expert trainers will deliver lectures in effective communication, self-promotion, and networking.  Following each lecture, students will work in interactive small groups of four to six students with two faculty members (distinguished attorneys from across Texas) to perfect these skills and receive individualized critiques. </p>\n\nIf you need an accommodation to participate in this event, please contact the event sponsor or the Texas Law Special Events Office at specialevents@law.utexas.edu no later than seven business days prior to the event.
X-ALT-DESC;FMTTYPE=text/html:<p>The Leadership Boot Camp is a limited enrollment, all-day, intensive workshop for 2Ls, 3Ls, judicial clerks, and LL.M. students.  Expert trainers will deliver lectures in effective communication, self-promotion, and networking.  Following each lecture, students will work in interactive small groups of four to six students with two faculty members (distinguished attorneys from across Texas) to perfect these skills and receive individualized critiques. </p><p>If you need an accommodation to participate in this event, please contact the event
                                          event sponsor or the Texas Law Special Events Office at <a href="mailto:specialevents@law.utexas.edu">specialevents@law.utexas.edu</a> no later than seven business days prior to the event.</p>
CATEGORIES:Workshop / Training Program
LOCATION:JON 5.206 - Susman Academic Center, Bryan and Michelle Goolsby Conference Suite (5.206 / 5.207)
URL:http://law.utexas.edu/calendar/2012/03/23/12857/
CLASS:PUBLIC
STATUS:CONFIRMED

END:VEVENT
END:VCALENDAR