BEGIN:VCALENDAR
VERSION:2.0
PRODID:-//UNIVERSITY OF TEXAS SCHOOL OF LAW//NONSGML Events Calendar v1.0//EN
X-WR-TIMEZONE:America/Chicago
BEGIN:VTIMEZONE
TZID:US/Central
X-LIC-LOCATION:America/Chicago
BEGIN:DAYLIGHT
TZOFFSETFROM:-0600
TZOFFSETTO:-0500
TZNAME:CDT
DTSTART:19700308T020000
RRULE:FREQ=YEARLY;BYMONTH=3;BYDAY=2SU
END:DAYLIGHT
BEGIN:STANDARD
TZOFFSETFROM:-0500
TZOFFSETTO:-0600
TZNAME:CST
DTSTART:19701101T020000
RRULE:FREQ=YEARLY;BYMONTH=11;BYDAY=1SU
END:STANDARD
END:VTIMEZONE
BEGIN:VEVENT
DTSTART;TZID=US/Central:20120327T113000
DTEND;VALUE=DATE-TIME;TZID=US/Central:20120327T123000

DTSTAMP:20260423T151600Z
CREATED:20120227T191200Z
LAST-MODIFIED:20120323T191400Z
UID:20120327T113000-13992@law.utexas.edu
SUMMARY:Careers in International Law
DESCRIPTION:<p>The <a title="International Law Section of the State Bar of Texas" href="http://www.ilstexas.org/">International Law Section of the State Bar of Texas</a> will be presenting a panel of top lawyers from the major law firms and energy companies in Texas who practice international law in a variety of settings. Come learn about the different paths each of the practitioners took out of law school to become international lawyers, what their practice is like, and the pros and cons of practicing international law. Panelists include <a href="http://www.dbcslaw.com/attorneys/martin_lutz">Martin Lutz ‘89</a>, ILS Council Member and partner, DuBois, Bryant &amp; Campbell, L.L.P.; Joe Fuqua, Senior Corporate Counsel, ARM; <a href="http://www.jw.com/Arcie_I_Jordan/">Arcie Jordan ‘79</a>, partner, Jackson Walker LLP ( Austin); <a href="http://www.ruggerolaw.com/">Peter Ruggero</a>, partner, Ruggero Law Firm PC; and <a href="http://www.andrewskurth.com/people-GeorgeHumphrey.html">George Humphrey</a>, ILS Council Member and partner, Andrews Kurth LLP (Houston).</p>
  <p>In addition, students may be interested in the Section’s <a href="http://www.ilstexas.org/contest2012.pdf">Texas Law Student Legal Writing Contest</a> (papers due May 31, 2012) as well as their <a href="http://www.ilstexas.org/aili.php">Annual International Law Institute</a>, which takes place March 29-30, 2012 in Houston.</p>
  <p>You may bring your lunch as drinks and cookies will be provided.  RSVP by Monday, March 26, on <a title="UT Law Symplicity" href="https://law-utexas-csm.symplicity.com/students/">UT Law Symplicity</a> by selecting the “Events” tab.</p>\n\nIf you need an accommodation to participate in this event, please contact the event sponsor or the Texas Law Special Events Office at specialevents@law.utexas.edu no later than seven business days prior to the event.
X-ALT-DESC;FMTTYPE=text/html:<p>The <a title="International Law Section of the State Bar of Texas" href="http://www.ilstexas.org/">International Law Section of the State Bar of Texas</a> will be presenting a panel of top lawyers from the major law firms and energy companies in Texas who practice international law in a variety of settings. Come learn about the different paths each of the practitioners took out of law school to become international lawyers, what their practice is like, and the pros and cons of practicing international law. Panelists include <a href="http://www.dbcslaw.com/attorneys/martin_lutz">Martin Lutz ‘89</a>, ILS Council Member and partner, DuBois, Bryant &amp; Campbell, L.L.P.; Joe Fuqua, Senior Corporate Counsel, ARM; <a href="http://www.jw.com/Arcie_I_Jordan/">Arcie Jordan ‘79</a>, partner, Jackson Walker LLP ( Austin); <a href="http://www.ruggerolaw.com/">Peter Ruggero</a>, partner, Ruggero Law Firm PC; and <a href="http://www.andrewskurth.com/people-GeorgeHumphrey.html">George Humphrey</a>, ILS Council Member and partner, Andrews Kurth LLP (Houston).</p>
  <p>In addition, students may be interested in the Section’s <a href="http://www.ilstexas.org/contest2012.pdf">Texas Law Student Legal Writing Contest</a> (papers due May 31, 2012) as well as their <a href="http://www.ilstexas.org/aili.php">Annual International Law Institute</a>, which takes place March 29-30, 2012 in Houston.</p>
  <p>You may bring your lunch as drinks and cookies will be provided.  RSVP by Monday, March 26, on <a title="UT Law Symplicity" href="https://law-utexas-csm.symplicity.com/students/">UT Law Symplicity</a> by selecting the “Events” tab.</p><p>If you need an accommodation to participate in this event, please contact the event
                                          event sponsor or the Texas Law Special Events Office at <a href="mailto:specialevents@law.utexas.edu">specialevents@law.utexas.edu</a> no later than seven business days prior to the event.</p>
CATEGORIES:Panel Discussion / Speaker Series
LOCATION:TNH 3.127 - Roberts Classroom
URL:http://law.utexas.edu/calendar/2012/03/27/13992/
CLASS:PUBLIC
STATUS:CONFIRMED
COMMENT:Please contact Natalie Aitken, Career Counselor, at 512-232-1162 or <a href="mailto:naitken@law.utexas.edu">naitken@law.utexas.edu</a>.
END:VEVENT
END:VCALENDAR