BEGIN:VCALENDAR
VERSION:2.0
PRODID:-//UNIVERSITY OF TEXAS SCHOOL OF LAW//NONSGML Events Calendar v1.0//EN
X-WR-TIMEZONE:America/Chicago
BEGIN:VTIMEZONE
TZID:US/Central
X-LIC-LOCATION:America/Chicago
BEGIN:DAYLIGHT
TZOFFSETFROM:-0600
TZOFFSETTO:-0500
TZNAME:CDT
DTSTART:19700308T020000
RRULE:FREQ=YEARLY;BYMONTH=3;BYDAY=2SU
END:DAYLIGHT
BEGIN:STANDARD
TZOFFSETFROM:-0500
TZOFFSETTO:-0600
TZNAME:CST
DTSTART:19701101T020000
RRULE:FREQ=YEARLY;BYMONTH=11;BYDAY=1SU
END:STANDARD
END:VTIMEZONE
BEGIN:VEVENT
DTSTART;TZID=US/Central:20120327T113000
DTEND;VALUE=DATE-TIME;TZID=US/Central:20120327T123000

DTSTAMP:20260423T135300Z
CREATED:20120311T000400Z
LAST-MODIFIED:20120326T144700Z
UID:20120327T113000-14056@law.utexas.edu
SUMMARY:Texas Abortion Sonogram Law's Effects
DESCRIPTION:<p>In February, The Texas Abortion Sonogram Law went into effect.  This law requires a woman seeking an abortion to first get an ultrasound, and then be shown the ultrasound image and listen to her doctor describe the image in detail.  Please join us to learn about the legal and medical effects of this highly controversial law. </p>
  <p>Mr. Blake Rocap, Legislative Council for NARAL Pro-Choice Texas, will discuss the legal aspects of the bill.  Joining him, Dr. Scott Spear, Medical Director of Planned Parenthood - Texas Capital Region, will discuss its medical implications. </p>
  <p>Event hosted by the Health Law and Bioethics Society, American Constitution Society, and the Texas Law Students for Reproductive Justice. Pizza and soft drinks will be provided. 
       
  </p>\n\nIf you need an accommodation to participate in this event, please contact the event sponsor or the Texas Law Special Events Office at specialevents@law.utexas.edu no later than seven business days prior to the event.
X-ALT-DESC;FMTTYPE=text/html:<p>In February, The Texas Abortion Sonogram Law went into effect.  This law requires a woman seeking an abortion to first get an ultrasound, and then be shown the ultrasound image and listen to her doctor describe the image in detail.  Please join us to learn about the legal and medical effects of this highly controversial law. </p>
  <p>Mr. Blake Rocap, Legislative Council for NARAL Pro-Choice Texas, will discuss the legal aspects of the bill.  Joining him, Dr. Scott Spear, Medical Director of Planned Parenthood - Texas Capital Region, will discuss its medical implications. </p>
  <p>Event hosted by the Health Law and Bioethics Society, American Constitution Society, and the Texas Law Students for Reproductive Justice. Pizza and soft drinks will be provided. 
       
  </p><p>If you need an accommodation to participate in this event, please contact the event
                                          event sponsor or the Texas Law Special Events Office at <a href="mailto:specialevents@law.utexas.edu">specialevents@law.utexas.edu</a> no later than seven business days prior to the event.</p>
CATEGORIES:Lunch
LOCATION:TNH 3.124 - Neathery Classroom
URL:http://law.utexas.edu/calendar/2012/03/27/14056/
CLASS:PUBLIC
STATUS:CONFIRMED

END:VEVENT
END:VCALENDAR