BEGIN:VCALENDAR
VERSION:2.0
PRODID:-//UNIVERSITY OF TEXAS SCHOOL OF LAW//NONSGML Events Calendar v1.0//EN
X-WR-TIMEZONE:America/Chicago
BEGIN:VTIMEZONE
TZID:US/Central
X-LIC-LOCATION:America/Chicago
BEGIN:DAYLIGHT
TZOFFSETFROM:-0600
TZOFFSETTO:-0500
TZNAME:CDT
DTSTART:19700308T020000
RRULE:FREQ=YEARLY;BYMONTH=3;BYDAY=2SU
END:DAYLIGHT
BEGIN:STANDARD
TZOFFSETFROM:-0500
TZOFFSETTO:-0600
TZNAME:CST
DTSTART:19701101T020000
RRULE:FREQ=YEARLY;BYMONTH=11;BYDAY=1SU
END:STANDARD
END:VTIMEZONE
BEGIN:VEVENT
DTSTART;TZID=US/Central:20120328T153000
DTEND;VALUE=DATE-TIME;TZID=US/Central:20120328T163000

DTSTAMP:20260423T134400Z
CREATED:20120216T001300Z
LAST-MODIFIED:20120327T170300Z
UID:20120328T153000-13818@law.utexas.edu
SUMMARY:Becoming a Judicial Clerkship Candidate
DESCRIPTION:<p>Now is the time for 1Ls to begin preparing to apply for judicial clerkships. Learn what law clerks do; why clerkships help you become a successful lawyer; what judges look for in selecting a law clerk; and what you can do now to become a successful candidate, including which courses to take. Panelists include the Honorable Jennifer Elrod, Judge on the U.S. Court of Appeals for the Fifth Circuit, and her law clerk, Shane Pennington ’10. Please RSVP by Tuesday, March 27, on <a title="UT Law Symplicity" href="https://law-utexas-csm.symplicity.com/students/">UT Law Symplicity</a> by selecting the “Events” tab.</p>\n\nIf you need an accommodation to participate in this event, please contact the event sponsor or the Texas Law Special Events Office at specialevents@law.utexas.edu no later than seven business days prior to the event.
X-ALT-DESC;FMTTYPE=text/html:<p>Now is the time for 1Ls to begin preparing to apply for judicial clerkships. Learn what law clerks do; why clerkships help you become a successful lawyer; what judges look for in selecting a law clerk; and what you can do now to become a successful candidate, including which courses to take. Panelists include the Honorable Jennifer Elrod, Judge on the U.S. Court of Appeals for the Fifth Circuit, and her law clerk, Shane Pennington ’10. Please RSVP by Tuesday, March 27, on <a title="UT Law Symplicity" href="https://law-utexas-csm.symplicity.com/students/">UT Law Symplicity</a> by selecting the “Events” tab.</p><p>If you need an accommodation to participate in this event, please contact the event
                                          event sponsor or the Texas Law Special Events Office at <a href="mailto:specialevents@law.utexas.edu">specialevents@law.utexas.edu</a> no later than seven business days prior to the event.</p>
CATEGORIES:Workshop / Training Program
LOCATION:CCJ 2.306 - Eidman Courtroom
URL:http://law.utexas.edu/calendar/2012/03/28/13818/
CLASS:PUBLIC
STATUS:CONFIRMED
COMMENT:Please contact Remi Ratliff, Director of Judicial Programs, at 512-232-1163 or <a href="mailto:rrattliff@law.utexas.edu">rratliff@law.utexas.edu</a>.
END:VEVENT
END:VCALENDAR