BEGIN:VCALENDAR
VERSION:2.0
PRODID:-//UNIVERSITY OF TEXAS SCHOOL OF LAW//NONSGML Events Calendar v1.0//EN
X-WR-TIMEZONE:America/Chicago
BEGIN:VTIMEZONE
TZID:US/Central
X-LIC-LOCATION:America/Chicago
BEGIN:DAYLIGHT
TZOFFSETFROM:-0600
TZOFFSETTO:-0500
TZNAME:CDT
DTSTART:19700308T020000
RRULE:FREQ=YEARLY;BYMONTH=3;BYDAY=2SU
END:DAYLIGHT
BEGIN:STANDARD
TZOFFSETFROM:-0500
TZOFFSETTO:-0600
TZNAME:CST
DTSTART:19701101T020000
RRULE:FREQ=YEARLY;BYMONTH=11;BYDAY=1SU
END:STANDARD
END:VTIMEZONE
BEGIN:VEVENT
DTSTART;TZID=US/Central:20120328T113000
DTEND;VALUE=DATE-TIME;TZID=US/Central:20120328T123000

DTSTAMP:20260423T134200Z
CREATED:20120304T213100Z
LAST-MODIFIED:20120323T194500Z
UID:20120328T113000-14032@law.utexas.edu
SUMMARY:So, You Want To Be A Tax Lawyer?
DESCRIPTION:<p>The State Bar of Texas Section of Taxation will present a discussion about various career opportunities available to attorneys in the area of tax law. Panelists include <a href="http://www.fulbright.com/podaniel">Patrick O’Daniel</a> ‘92, Partner at Fulbright &amp; Jaworski; <a href="http://www.jw.com/Steven_D_Moore/">Steve Moore</a> ‘88, Partner at Jackson Walker L.L.P.; <a href="http://www.gsrp.com/our_people/partners/cindy.html">Cindy Grossman</a> ‘04, Partner at Giordani Swanger Ripp &amp; Phillips LLP; <a href="http://www.jw.com/site/jsp/attyinfo.jsp?id=581">Erin Tuggle</a> ‘05, Associate at Jackson Walker L.L.P.; Mandi Matlock ‘00, <a href="http://www.trla.org/">Texas RioGrande Legal Aid</a>; and <a href="http://www.linkedin.com/pub/daniel-price/34/202/95a">Daniel Price</a> ’02, Associate Area Counsel at the U.S. Department of the Treasury. Moderated by <a href="http://www.mondriklaw.com/index.php?id=5">Christi Mondrik</a> ‘01, Mondrik &amp; Associates.</p>
  <p>Lunch will be served. Please RSVP by Tuesday, March 27, on <a title="UT Law LRAP" href="https://law-utexas-csm.symplicity.com/students/">UT Law Symplicity</a> by selecting the "Events" tab.</p>\n\nIf you need an accommodation to participate in this event, please contact the event sponsor or the Texas Law Special Events Office at specialevents@law.utexas.edu no later than seven business days prior to the event.
X-ALT-DESC;FMTTYPE=text/html:<p>The State Bar of Texas Section of Taxation will present a discussion about various career opportunities available to attorneys in the area of tax law. Panelists include <a href="http://www.fulbright.com/podaniel">Patrick O’Daniel</a> ‘92, Partner at Fulbright &amp; Jaworski; <a href="http://www.jw.com/Steven_D_Moore/">Steve Moore</a> ‘88, Partner at Jackson Walker L.L.P.; <a href="http://www.gsrp.com/our_people/partners/cindy.html">Cindy Grossman</a> ‘04, Partner at Giordani Swanger Ripp &amp; Phillips LLP; <a href="http://www.jw.com/site/jsp/attyinfo.jsp?id=581">Erin Tuggle</a> ‘05, Associate at Jackson Walker L.L.P.; Mandi Matlock ‘00, <a href="http://www.trla.org/">Texas RioGrande Legal Aid</a>; and <a href="http://www.linkedin.com/pub/daniel-price/34/202/95a">Daniel Price</a> ’02, Associate Area Counsel at the U.S. Department of the Treasury. Moderated by <a href="http://www.mondriklaw.com/index.php?id=5">Christi Mondrik</a> ‘01, Mondrik &amp; Associates.</p>
  <p>Lunch will be served. Please RSVP by Tuesday, March 27, on <a title="UT Law LRAP" href="https://law-utexas-csm.symplicity.com/students/">UT Law Symplicity</a> by selecting the "Events" tab.</p><p>If you need an accommodation to participate in this event, please contact the event
                                          event sponsor or the Texas Law Special Events Office at <a href="mailto:specialevents@law.utexas.edu">specialevents@law.utexas.edu</a> no later than seven business days prior to the event.</p>
CATEGORIES:Panel Discussion / Speaker Series
LOCATION:Career Services Interview Suite (TNH 3.122)
URL:http://law.utexas.edu/calendar/2012/03/28/14032/
CLASS:PUBLIC
STATUS:CONFIRMED
COMMENT:Please contact Simone Leavenworth, Career Counselor, at <a href="mailto:sleavenworth@law.utexas.edu">sleavenworth@law.utexas.edu</a> or 512-232-1157 in the CSO.
END:VEVENT
END:VCALENDAR