BEGIN:VCALENDAR
VERSION:2.0
PRODID:-//UNIVERSITY OF TEXAS SCHOOL OF LAW//NONSGML Events Calendar v1.0//EN
X-WR-TIMEZONE:America/Chicago
BEGIN:VTIMEZONE
TZID:US/Central
X-LIC-LOCATION:America/Chicago
BEGIN:DAYLIGHT
TZOFFSETFROM:-0600
TZOFFSETTO:-0500
TZNAME:CDT
DTSTART:19700308T020000
RRULE:FREQ=YEARLY;BYMONTH=3;BYDAY=2SU
END:DAYLIGHT
BEGIN:STANDARD
TZOFFSETFROM:-0500
TZOFFSETTO:-0600
TZNAME:CST
DTSTART:19701101T020000
RRULE:FREQ=YEARLY;BYMONTH=11;BYDAY=1SU
END:STANDARD
END:VTIMEZONE
BEGIN:VEVENT
DTSTART;TZID=US/Central:20120328T113000
DTEND;VALUE=DATE-TIME;TZID=US/Central:20120328T123000

DTSTAMP:20260423T135200Z
CREATED:20120323T202000Z
LAST-MODIFIED:20120327T145600Z
UID:20120328T113000-14158@law.utexas.edu
SUMMARY:Attorney General Antitrust Info Session
DESCRIPTION:<p>Mark Levy '01 and others will discuss summer and fall internship opportunities available in the <a title="Texas OAG Antitrust Section" href="https://www.oag.state.tx.us/consumer/antitrust.shtml">Antitrust Section</a> for rising 2Ls and 3Ls, which may qualify for academic credit.  Lunch will be served. RSVP by Tuesday, March 27, on <a href="https://law-utexas-csm.symplicity.com/students/">UT Law Symplicity</a> by selecting the “Events” tab.</p>\n\nIf you need an accommodation to participate in this event, please contact the event sponsor or the Texas Law Special Events Office at specialevents@law.utexas.edu no later than seven business days prior to the event.
X-ALT-DESC;FMTTYPE=text/html:<p>Mark Levy '01 and others will discuss summer and fall internship opportunities available in the <a title="Texas OAG Antitrust Section" href="https://www.oag.state.tx.us/consumer/antitrust.shtml">Antitrust Section</a> for rising 2Ls and 3Ls, which may qualify for academic credit.  Lunch will be served. RSVP by Tuesday, March 27, on <a href="https://law-utexas-csm.symplicity.com/students/">UT Law Symplicity</a> by selecting the “Events” tab.</p><p>If you need an accommodation to participate in this event, please contact the event
                                          event sponsor or the Texas Law Special Events Office at <a href="mailto:specialevents@law.utexas.edu">specialevents@law.utexas.edu</a> no later than seven business days prior to the event.</p>
CATEGORIES:Meeting
LOCATION:TNH 3.129 - Atlas Seminar Room
URL:http://law.utexas.edu/calendar/2012/03/28/14158/
CLASS:PUBLIC
STATUS:CONFIRMED
COMMENT:Please contact Denyse Demel, Government Career Counselor, at 512-232-1162 or <a href="mailto:ddemel@law.utexas.edu">ddemel@law.utexas.edu</a>.
END:VEVENT
END:VCALENDAR