BEGIN:VCALENDAR
VERSION:2.0
PRODID:-//UNIVERSITY OF TEXAS SCHOOL OF LAW//NONSGML Events Calendar v1.0//EN
X-WR-TIMEZONE:America/Chicago
BEGIN:VTIMEZONE
TZID:US/Central
X-LIC-LOCATION:America/Chicago
BEGIN:DAYLIGHT
TZOFFSETFROM:-0600
TZOFFSETTO:-0500
TZNAME:CDT
DTSTART:19700308T020000
RRULE:FREQ=YEARLY;BYMONTH=3;BYDAY=2SU
END:DAYLIGHT
BEGIN:STANDARD
TZOFFSETFROM:-0500
TZOFFSETTO:-0600
TZNAME:CST
DTSTART:19701101T020000
RRULE:FREQ=YEARLY;BYMONTH=11;BYDAY=1SU
END:STANDARD
END:VTIMEZONE
BEGIN:VEVENT
DTSTART;TZID=US/Central:20120329T130000
DTEND;VALUE=DATE-TIME;TZID=US/Central:20120329T153000

DTSTAMP:20260423T135200Z
CREATED:20120215T213600Z
LAST-MODIFIED:20120215T213600Z
UID:20120329T130000-13815@law.utexas.edu
SUMMARY:Prosecutorial Oversight Tour
DESCRIPTION:<p>The Prosecutorial Oversight Campaign is a national tour to initiate dialogue and seek answers to these questions:
  • What are the systems we rely upon to ensure prosecutorial accountability?
  • What does research-based evidence tell us about how well those systems are working?
  • What improvements should be made to these systems to ensure quality and accountability?</p>
  <p>The Austin, Texas event will be a public discussion of these issues, with a prosecutor, a jurist, a legal ethicist, and a representative of the Texas bar disciplinary committee.</p>\n\nIf you need an accommodation to participate in this event, please contact the event sponsor or the Texas Law Special Events Office at specialevents@law.utexas.edu no later than seven business days prior to the event.
X-ALT-DESC;FMTTYPE=text/html:<p>The Prosecutorial Oversight Campaign is a national tour to initiate dialogue and seek answers to these questions:
  • What are the systems we rely upon to ensure prosecutorial accountability?
  • What does research-based evidence tell us about how well those systems are working?
  • What improvements should be made to these systems to ensure quality and accountability?</p>
  <p>The Austin, Texas event will be a public discussion of these issues, with a prosecutor, a jurist, a legal ethicist, and a representative of the Texas bar disciplinary committee.</p><p>If you need an accommodation to participate in this event, please contact the event
                                          event sponsor or the Texas Law Special Events Office at <a href="mailto:specialevents@law.utexas.edu">specialevents@law.utexas.edu</a> no later than seven business days prior to the event.</p>
CATEGORIES:Panel Discussion / Speaker Series
LOCATION:TNH 2.114 - Francis Auditorium
URL:http://law.utexas.edu/calendar/2012/03/29/13815/
CLASS:PUBLIC
STATUS:CONFIRMED

END:VEVENT
END:VCALENDAR