BEGIN:VCALENDAR
VERSION:2.0
PRODID:-//UNIVERSITY OF TEXAS SCHOOL OF LAW//NONSGML Events Calendar v1.0//EN
X-WR-TIMEZONE:America/Chicago
BEGIN:VTIMEZONE
TZID:US/Central
X-LIC-LOCATION:America/Chicago
BEGIN:DAYLIGHT
TZOFFSETFROM:-0600
TZOFFSETTO:-0500
TZNAME:CDT
DTSTART:19700308T020000
RRULE:FREQ=YEARLY;BYMONTH=3;BYDAY=2SU
END:DAYLIGHT
BEGIN:STANDARD
TZOFFSETFROM:-0500
TZOFFSETTO:-0600
TZNAME:CST
DTSTART:19701101T020000
RRULE:FREQ=YEARLY;BYMONTH=11;BYDAY=1SU
END:STANDARD
END:VTIMEZONE
BEGIN:VEVENT
DTSTART;TZID=US/Central:20120330T113000
DTEND;VALUE=DATE-TIME;TZID=US/Central:20120330T123000

DTSTAMP:20260423T135200Z
CREATED:20110524T180400Z
LAST-MODIFIED:20120327T144700Z
UID:20120330T113000-11916@law.utexas.edu
SUMMARY:Texas State Courts Workshop
DESCRIPTION:<p>A panel of judges from various Texas state courts will discuss  judicial clerkships at their courts and what students can do to make themselves competitive clerkship candidates.  Panelists include Justice Debra Lehrmann ‘82, Supreme Court of Texas; Justice Michael Massengale ‘97, First Court of Appeals; Justice Rebecca Simmons, Fourth Court of Appeals; and Judge Cheryl Johnson, Texas Court of Criminal Appeals. Moderated by Elana Einhorn, Judicial Clerkship Advisor. The Clerkship Advisors encourage 2Ls and 3Ls applying for judicial clerkships this year and 1Ls hoping to apply next summer to attend this panel.</p>
  <p>RSVP on UT Law Symplicity by Thursday, March 29, by selecting the 'Events' tab.</p>\n\nIf you need an accommodation to participate in this event, please contact the event sponsor or the Texas Law Special Events Office at specialevents@law.utexas.edu no later than seven business days prior to the event.
X-ALT-DESC;FMTTYPE=text/html:<p>A panel of judges from various Texas state courts will discuss  judicial clerkships at their courts and what students can do to make themselves competitive clerkship candidates.  Panelists include Justice Debra Lehrmann ‘82, Supreme Court of Texas; Justice Michael Massengale ‘97, First Court of Appeals; Justice Rebecca Simmons, Fourth Court of Appeals; and Judge Cheryl Johnson, Texas Court of Criminal Appeals. Moderated by Elana Einhorn, Judicial Clerkship Advisor. The Clerkship Advisors encourage 2Ls and 3Ls applying for judicial clerkships this year and 1Ls hoping to apply next summer to attend this panel.</p>
  <p>RSVP on UT Law Symplicity by Thursday, March 29, by selecting the 'Events' tab.</p><p>If you need an accommodation to participate in this event, please contact the event
                                          event sponsor or the Texas Law Special Events Office at <a href="mailto:specialevents@law.utexas.edu">specialevents@law.utexas.edu</a> no later than seven business days prior to the event.</p>
CATEGORIES:Workshop / Training Program
LOCATION:CCJ 2.306 - Eidman Courtroom
URL:http://law.utexas.edu/calendar/2012/03/30/11916/
CLASS:PUBLIC
STATUS:CONFIRMED
COMMENT:Please contact Remi Ratliff at <a href="mailto:rrattliff@law.utexas.edu">rratliff@law.utexas.edu</a> in the CSO.
END:VEVENT
END:VCALENDAR