BEGIN:VCALENDAR
VERSION:2.0
PRODID:-//UNIVERSITY OF TEXAS SCHOOL OF LAW//NONSGML Events Calendar v1.0//EN
X-WR-TIMEZONE:America/Chicago
BEGIN:VTIMEZONE
TZID:US/Central
X-LIC-LOCATION:America/Chicago
BEGIN:DAYLIGHT
TZOFFSETFROM:-0600
TZOFFSETTO:-0500
TZNAME:CDT
DTSTART:19700308T020000
RRULE:FREQ=YEARLY;BYMONTH=3;BYDAY=2SU
END:DAYLIGHT
BEGIN:STANDARD
TZOFFSETFROM:-0500
TZOFFSETTO:-0600
TZNAME:CST
DTSTART:19701101T020000
RRULE:FREQ=YEARLY;BYMONTH=11;BYDAY=1SU
END:STANDARD
END:VTIMEZONE
BEGIN:VEVENT
DTSTART;TZID=US/Central:20120330T183000
DTEND;VALUE=DATE-TIME;TZID=US/Central:20120330T213000

DTSTAMP:20260423T135200Z
CREATED:20120203T210700Z
LAST-MODIFIED:20120203T210800Z
UID:20120330T183000-13711@law.utexas.edu
SUMMARY:TMLS Banquet
DESCRIPTION:<p>TMLS 31st Annual Banquet
  Thurgood Marshall Legal Society | Friday, March 30, 2012</p>
  <p>
  Please RSVP by Friday, March 16, 2012</p>
  <p>The Thurgood Marshall Legal Society (TMLS) is proud to be The University of Texas School of Law's local chapter of the national Black Law Students Association (NBLSA).  A group of about 65 students, TMLS strives to provide benefits to its members and the entire law school community.</p>
  <p>TMLS concludes each year with its annual banquet honoring out outgoing third-year members, the African-American legal community, and our donors for their distinguished support of the organization and the community.  We hope you can join us if you are in town for admitted students weekend.</p>
  <p>This year our reception begins at 6:30 pm on Friday, March 30, 2012 at the Bob Bullock Texas State History Museum, 1800 Congres Avenue, Austin, TX.  The banquet will commence immediately following the reception at 7:30 pm.</p>\n\nIf you need an accommodation to participate in this event, please contact the event sponsor or the Texas Law Special Events Office at specialevents@law.utexas.edu no later than seven business days prior to the event.
X-ALT-DESC;FMTTYPE=text/html:<p>TMLS 31st Annual Banquet
  Thurgood Marshall Legal Society | Friday, March 30, 2012</p>
  <p>
  Please RSVP by Friday, March 16, 2012</p>
  <p>The Thurgood Marshall Legal Society (TMLS) is proud to be The University of Texas School of Law's local chapter of the national Black Law Students Association (NBLSA).  A group of about 65 students, TMLS strives to provide benefits to its members and the entire law school community.</p>
  <p>TMLS concludes each year with its annual banquet honoring out outgoing third-year members, the African-American legal community, and our donors for their distinguished support of the organization and the community.  We hope you can join us if you are in town for admitted students weekend.</p>
  <p>This year our reception begins at 6:30 pm on Friday, March 30, 2012 at the Bob Bullock Texas State History Museum, 1800 Congres Avenue, Austin, TX.  The banquet will commence immediately following the reception at 7:30 pm.</p><p>If you need an accommodation to participate in this event, please contact the event
                                          event sponsor or the Texas Law Special Events Office at <a href="mailto:specialevents@law.utexas.edu">specialevents@law.utexas.edu</a> no later than seven business days prior to the event.</p>

LOCATION:The Bob Bullock Texas State History Museum, 1800 Congress Avenue, Austin, TX 78701
URL:http://law.utexas.edu/calendar/2012/03/30/13711/
CLASS:PUBLIC
STATUS:CONFIRMED

END:VEVENT
END:VCALENDAR