BEGIN:VCALENDAR
VERSION:2.0
PRODID:-//UNIVERSITY OF TEXAS SCHOOL OF LAW//NONSGML Events Calendar v1.0//EN
X-WR-TIMEZONE:America/Chicago
BEGIN:VTIMEZONE
TZID:US/Central
X-LIC-LOCATION:America/Chicago
BEGIN:DAYLIGHT
TZOFFSETFROM:-0600
TZOFFSETTO:-0500
TZNAME:CDT
DTSTART:19700308T020000
RRULE:FREQ=YEARLY;BYMONTH=3;BYDAY=2SU
END:DAYLIGHT
BEGIN:STANDARD
TZOFFSETFROM:-0500
TZOFFSETTO:-0600
TZNAME:CST
DTSTART:19701101T020000
RRULE:FREQ=YEARLY;BYMONTH=11;BYDAY=1SU
END:STANDARD
END:VTIMEZONE
BEGIN:VEVENT
DTSTART;TZID=US/Central:20120330
DTEND;TZID=US/Central:20120331
X-MICROSOFT-CDO-ALLDAYEVENT:TRUE
X-FUNAMBOL-ALLDAY:TRUE
DTSTAMP:20260423T135100Z
CREATED:20101021T214200Z
LAST-MODIFIED:20120323T150400Z
UID:20120330T000000-9230@law.utexas.edu
SUMMARY:TX July 2012 Bar Exam App Final Deadline
DESCRIPTION:<p><strong>Reminder for 3Ls planning to sit for the Texas July 2012 Bar Exam: in order to sit for the exam, your <a href="http://www.ble.state.tx.us/applications/instate/instate_main.htm">In-State Application to Take the TX Bar Exam</a> must be post-marked by March 30, 2012.  This deadline is strictly enforced.</strong>
  </p>
  <p>Applicants who have not yet filed their <a href="http://www.ble.state.tx.us/applications/declaration/decl_main.htm">Declaration of Intention to Study Law</a> must do so prior to or with their In-State Application.</p>
  <p>If you would like to hand deliver your completed application by end this business day, the TX BLE office is located at:</p>
  <p><a href="http://maps.google.com/maps?q=205+W.+14th+St.+Ste+500+Austin,+TX+78701&amp;rls=com.microsoft:en-us&amp;oe=UTF-8&amp;startIndex=&amp;startPage=1&amp;rlz=1I7GGLG_en&amp;um=1&amp;ie=UTF-8&amp;hq=&amp;hnear=205+W+14th+St+%23500,+Austin,+TX+78701&amp;gl=us&amp;ei=tFe_TKeyDMP_lgev-YXmBw&amp;sa=X&amp;oi=geocode_result&amp;ct=title&amp;resnum=1&amp;ved=0CBIQ8gEwAA">205 W. 14th St. Ste 500, Austin, TX 78701</a></p>
  <p>You're encouraged to arrive well in advance of the 5 PM closing time.</p>\n\nIf you need an accommodation to participate in this event, please contact the event sponsor or the Texas Law Special Events Office at specialevents@law.utexas.edu no later than seven business days prior to the event.
X-ALT-DESC;FMTTYPE=text/html:<p><strong>Reminder for 3Ls planning to sit for the Texas July 2012 Bar Exam: in order to sit for the exam, your <a href="http://www.ble.state.tx.us/applications/instate/instate_main.htm">In-State Application to Take the TX Bar Exam</a> must be post-marked by March 30, 2012.  This deadline is strictly enforced.</strong>
  </p>
  <p>Applicants who have not yet filed their <a href="http://www.ble.state.tx.us/applications/declaration/decl_main.htm">Declaration of Intention to Study Law</a> must do so prior to or with their In-State Application.</p>
  <p>If you would like to hand deliver your completed application by end this business day, the TX BLE office is located at:</p>
  <p><a href="http://maps.google.com/maps?q=205+W.+14th+St.+Ste+500+Austin,+TX+78701&amp;rls=com.microsoft:en-us&amp;oe=UTF-8&amp;startIndex=&amp;startPage=1&amp;rlz=1I7GGLG_en&amp;um=1&amp;ie=UTF-8&amp;hq=&amp;hnear=205+W+14th+St+%23500,+Austin,+TX+78701&amp;gl=us&amp;ei=tFe_TKeyDMP_lgev-YXmBw&amp;sa=X&amp;oi=geocode_result&amp;ct=title&amp;resnum=1&amp;ved=0CBIQ8gEwAA">205 W. 14th St. Ste 500, Austin, TX 78701</a></p>
  <p>You're encouraged to arrive well in advance of the 5 PM closing time.</p><p>If you need an accommodation to participate in this event, please contact the event
                                          event sponsor or the Texas Law Special Events Office at <a href="mailto:specialevents@law.utexas.edu">specialevents@law.utexas.edu</a> no later than seven business days prior to the event.</p>


URL:http://law.utexas.edu/calendar/2012/03/30/9230/
CLASS:PUBLIC
STATUS:CONFIRMED

END:VEVENT
END:VCALENDAR