BEGIN:VCALENDAR
VERSION:2.0
PRODID:-//UNIVERSITY OF TEXAS SCHOOL OF LAW//NONSGML Events Calendar v1.0//EN
X-WR-TIMEZONE:America/Chicago
BEGIN:VTIMEZONE
TZID:US/Central
X-LIC-LOCATION:America/Chicago
BEGIN:DAYLIGHT
TZOFFSETFROM:-0600
TZOFFSETTO:-0500
TZNAME:CDT
DTSTART:19700308T020000
RRULE:FREQ=YEARLY;BYMONTH=3;BYDAY=2SU
END:DAYLIGHT
BEGIN:STANDARD
TZOFFSETFROM:-0500
TZOFFSETTO:-0600
TZNAME:CST
DTSTART:19701101T020000
RRULE:FREQ=YEARLY;BYMONTH=11;BYDAY=1SU
END:STANDARD
END:VTIMEZONE
BEGIN:VEVENT
DTSTART;TZID=US/Central:20120403T151500


DTSTAMP:20260423T135200Z
CREATED:20120127T163400Z
LAST-MODIFIED:20120127T163400Z
UID:20120403T151500-13635@law.utexas.edu
SUMMARY:Meeting: Texas LSRJ
DESCRIPTION:<p>Come to our meeting: Tuesday, April 3rd, at 3:15pm in rm. 3.124</p>
  <p>Texas Law Students for Reproductive Justice educate, organize, and support law students to ensure that a new generation of advocates will be prepared to protect and
  expand reproductive rights as basic civil and human rights.</p>\n\nIf you need an accommodation to participate in this event, please contact the event sponsor or the Texas Law Special Events Office at specialevents@law.utexas.edu no later than seven business days prior to the event.
X-ALT-DESC;FMTTYPE=text/html:<p>Come to our meeting: Tuesday, April 3rd, at 3:15pm in rm. 3.124</p>
  <p>Texas Law Students for Reproductive Justice educate, organize, and support law students to ensure that a new generation of advocates will be prepared to protect and
  expand reproductive rights as basic civil and human rights.</p><p>If you need an accommodation to participate in this event, please contact the event
                                          event sponsor or the Texas Law Special Events Office at <a href="mailto:specialevents@law.utexas.edu">specialevents@law.utexas.edu</a> no later than seven business days prior to the event.</p>
CATEGORIES:Meeting
LOCATION:TNH 3.124 - Neathery Classroom
URL:http://law.utexas.edu/calendar/2012/04/03/13635/
CLASS:PUBLIC
STATUS:CONFIRMED

END:VEVENT
END:VCALENDAR