BEGIN:VCALENDAR
VERSION:2.0
PRODID:-//UNIVERSITY OF TEXAS SCHOOL OF LAW//NONSGML Events Calendar v1.0//EN
X-WR-TIMEZONE:America/Chicago
BEGIN:VTIMEZONE
TZID:US/Central
X-LIC-LOCATION:America/Chicago
BEGIN:DAYLIGHT
TZOFFSETFROM:-0600
TZOFFSETTO:-0500
TZNAME:CDT
DTSTART:19700308T020000
RRULE:FREQ=YEARLY;BYMONTH=3;BYDAY=2SU
END:DAYLIGHT
BEGIN:STANDARD
TZOFFSETFROM:-0500
TZOFFSETTO:-0600
TZNAME:CST
DTSTART:19701101T020000
RRULE:FREQ=YEARLY;BYMONTH=11;BYDAY=1SU
END:STANDARD
END:VTIMEZONE
BEGIN:VEVENT
DTSTART;TZID=US/Central:20120403T120000
DTEND;VALUE=DATE-TIME;TZID=US/Central:20120403T133000

DTSTAMP:20260423T135300Z
CREATED:20120301T201000Z
LAST-MODIFIED:20120306T151500Z
UID:20120403T120000-14007@law.utexas.edu
SUMMARY:Scott McCown: School Finance Litigation
DESCRIPTION:<p>More than half of Texas school districts are part of pending lawsuits against the state’s school finance system. Join us as Scott McCown, ‘79, talks about the lawsuits, the historic conflict between rich and poor school districts in Texas, and how the current lawsuits could impact educational equity. As a state district judge, McCown presided over all public school finance cases from 1990-2002. He is now Executive Director of the Center for Public Policy Priorities. Norma Cantu, who holds joint appointments at UT in the College of Education and School of Law, will moderate the discussion. Professor Cantu is a former  Assistant Secretary of Education for Civil Rights and former regional counsel and education director of the Mexican-American Legal Defense and Educational Fund.</p>
  <p>1.5 Hours of CLE available.  Lunch provided.</p>
  <p>Sponsored by the UT Opportunity Forum
  Co-Sponsored by the William Wayne Justice Center for Public Interest Law, the Center for Politics and Governance, and the College of Education</p>\n\nIf you need an accommodation to participate in this event, please contact the event sponsor or the Texas Law Special Events Office at specialevents@law.utexas.edu no later than seven business days prior to the event.
X-ALT-DESC;FMTTYPE=text/html:<p>More than half of Texas school districts are part of pending lawsuits against the state’s school finance system. Join us as Scott McCown, ‘79, talks about the lawsuits, the historic conflict between rich and poor school districts in Texas, and how the current lawsuits could impact educational equity. As a state district judge, McCown presided over all public school finance cases from 1990-2002. He is now Executive Director of the Center for Public Policy Priorities. Norma Cantu, who holds joint appointments at UT in the College of Education and School of Law, will moderate the discussion. Professor Cantu is a former  Assistant Secretary of Education for Civil Rights and former regional counsel and education director of the Mexican-American Legal Defense and Educational Fund.</p>
  <p>1.5 Hours of CLE available.  Lunch provided.</p>
  <p>Sponsored by the UT Opportunity Forum
  Co-Sponsored by the William Wayne Justice Center for Public Interest Law, the Center for Politics and Governance, and the College of Education</p><p>If you need an accommodation to participate in this event, please contact the event
                                          event sponsor or the Texas Law Special Events Office at <a href="mailto:specialevents@law.utexas.edu">specialevents@law.utexas.edu</a> no later than seven business days prior to the event.</p>
CATEGORIES:Other
LOCATION:Room 3.124, LBJ School of Public Affairs
URL:http://law.utexas.edu/calendar/2012/04/03/14007/
CLASS:PUBLIC
STATUS:CONFIRMED

END:VEVENT
END:VCALENDAR