BEGIN:VCALENDAR
VERSION:2.0
PRODID:-//UNIVERSITY OF TEXAS SCHOOL OF LAW//NONSGML Events Calendar v1.0//EN
X-WR-TIMEZONE:America/Chicago
BEGIN:VTIMEZONE
TZID:US/Central
X-LIC-LOCATION:America/Chicago
BEGIN:DAYLIGHT
TZOFFSETFROM:-0600
TZOFFSETTO:-0500
TZNAME:CDT
DTSTART:19700308T020000
RRULE:FREQ=YEARLY;BYMONTH=3;BYDAY=2SU
END:DAYLIGHT
BEGIN:STANDARD
TZOFFSETFROM:-0500
TZOFFSETTO:-0600
TZNAME:CST
DTSTART:19701101T020000
RRULE:FREQ=YEARLY;BYMONTH=11;BYDAY=1SU
END:STANDARD
END:VTIMEZONE
BEGIN:VEVENT
DTSTART;TZID=US/Central:20120405T113000
DTEND;VALUE=DATE-TIME;TZID=US/Central:20120405T121500

DTSTAMP:20260423T135300Z
CREATED:20120401T173200Z
LAST-MODIFIED:20120401T173200Z
UID:20120405T113000-14232@law.utexas.edu
SUMMARY:ACS Hosts Texas Redistricting Panel
DESCRIPTION:<p>Join ACS for a panel on the ongoing Texas redistricting litigation by attorneys working on this litigation. The Panel will be moderated by Professor Fishkin and will address minority voting interests, the Voting Rights Act, and the current state of the litigation. </p>
  <p>Panelists include Jose Garza (representing the Mexican American Legislative Caucus), Renea Hicks (representing Travis County), and Gary Bledsoe (representing the Texas NAACP). </p>
  <p>We hope you can join us for this fascinating panel and lunch on ACS!</p>\n\nIf you need an accommodation to participate in this event, please contact the event sponsor or the Texas Law Special Events Office at specialevents@law.utexas.edu no later than seven business days prior to the event.
X-ALT-DESC;FMTTYPE=text/html:<p>Join ACS for a panel on the ongoing Texas redistricting litigation by attorneys working on this litigation. The Panel will be moderated by Professor Fishkin and will address minority voting interests, the Voting Rights Act, and the current state of the litigation. </p>
  <p>Panelists include Jose Garza (representing the Mexican American Legislative Caucus), Renea Hicks (representing Travis County), and Gary Bledsoe (representing the Texas NAACP). </p>
  <p>We hope you can join us for this fascinating panel and lunch on ACS!</p><p>If you need an accommodation to participate in this event, please contact the event
                                          event sponsor or the Texas Law Special Events Office at <a href="mailto:specialevents@law.utexas.edu">specialevents@law.utexas.edu</a> no later than seven business days prior to the event.</p>
CATEGORIES:Panel Discussion / Speaker Series
LOCATION:TNH 3.127 - Roberts Classroom
URL:http://law.utexas.edu/calendar/2012/04/05/14232/
CLASS:PUBLIC
STATUS:CONFIRMED

END:VEVENT
END:VCALENDAR