BEGIN:VCALENDAR
VERSION:2.0
PRODID:-//UNIVERSITY OF TEXAS SCHOOL OF LAW//NONSGML Events Calendar v1.0//EN
X-WR-TIMEZONE:America/Chicago
BEGIN:VTIMEZONE
TZID:US/Central
X-LIC-LOCATION:America/Chicago
BEGIN:DAYLIGHT
TZOFFSETFROM:-0600
TZOFFSETTO:-0500
TZNAME:CDT
DTSTART:19700308T020000
RRULE:FREQ=YEARLY;BYMONTH=3;BYDAY=2SU
END:DAYLIGHT
BEGIN:STANDARD
TZOFFSETFROM:-0500
TZOFFSETTO:-0600
TZNAME:CST
DTSTART:19701101T020000
RRULE:FREQ=YEARLY;BYMONTH=11;BYDAY=1SU
END:STANDARD
END:VTIMEZONE
BEGIN:VEVENT
DTSTART;TZID=US/Central:20120406T090000
DTEND;VALUE=DATE-TIME;TZID=US/Central:20120406T100000

DTSTAMP:20260423T151700Z
CREATED:20120304T215700Z
LAST-MODIFIED:20120329T125900Z
UID:20120406T090000-14035@law.utexas.edu
SUMMARY:3L Job Search/LCLP
DESCRIPTION:<p>For 3Ls still seeking permanent employment, come learn about <a title="UT Law Long Career Launch Program" href="https://www.utexas.edu/law/career/roads/lclp.html">UT Law’s Long Career Launch Program</a>. Strategies will be discussed on how to maximize the benefit of LCLP and similar postgraduate programs. You will also obtain practical advice on how to make your job search more efficient and productive.</p>
  <p>You may attend either the Thursday or Friday session. Pizza will be served on Thursday and coffee/pastries will be served on Friday. Please RSVP by Wednesday, April 4, on <a href="https://law-utexas-csm.symplicity.com/students/">UT Law Symplicity</a> by selecting the “Events” tab.</p>\n\nIf you need an accommodation to participate in this event, please contact the event sponsor or the Texas Law Special Events Office at specialevents@law.utexas.edu no later than seven business days prior to the event.
X-ALT-DESC;FMTTYPE=text/html:<p>For 3Ls still seeking permanent employment, come learn about <a title="UT Law Long Career Launch Program" href="https://www.utexas.edu/law/career/roads/lclp.html">UT Law’s Long Career Launch Program</a>. Strategies will be discussed on how to maximize the benefit of LCLP and similar postgraduate programs. You will also obtain practical advice on how to make your job search more efficient and productive.</p>
  <p>You may attend either the Thursday or Friday session. Pizza will be served on Thursday and coffee/pastries will be served on Friday. Please RSVP by Wednesday, April 4, on <a href="https://law-utexas-csm.symplicity.com/students/">UT Law Symplicity</a> by selecting the “Events” tab.</p><p>If you need an accommodation to participate in this event, please contact the event
                                          event sponsor or the Texas Law Special Events Office at <a href="mailto:specialevents@law.utexas.edu">specialevents@law.utexas.edu</a> no later than seven business days prior to the event.</p>

LOCATION:TNH 3.124 - Neathery Classroom
URL:http://law.utexas.edu/calendar/2012/04/06/14035/
CLASS:PUBLIC
STATUS:CONFIRMED
COMMENT:Please contact Nicole Simmons, Public Interest Career Counselor, at 512-232-1160 or <a href="mailto:nsimmons@law.utexas.edu">nsimmons@law.utexas.edu</a>.
END:VEVENT
END:VCALENDAR