BEGIN:VCALENDAR
VERSION:2.0
PRODID:-//UNIVERSITY OF TEXAS SCHOOL OF LAW//NONSGML Events Calendar v1.0//EN
X-WR-TIMEZONE:America/Chicago
BEGIN:VTIMEZONE
TZID:US/Central
X-LIC-LOCATION:America/Chicago
BEGIN:DAYLIGHT
TZOFFSETFROM:-0600
TZOFFSETTO:-0500
TZNAME:CDT
DTSTART:19700308T020000
RRULE:FREQ=YEARLY;BYMONTH=3;BYDAY=2SU
END:DAYLIGHT
BEGIN:STANDARD
TZOFFSETFROM:-0500
TZOFFSETTO:-0600
TZNAME:CST
DTSTART:19701101T020000
RRULE:FREQ=YEARLY;BYMONTH=11;BYDAY=1SU
END:STANDARD
END:VTIMEZONE
BEGIN:VEVENT
DTSTART;TZID=US/Central:20120409T151500
DTEND;VALUE=DATE-TIME;TZID=US/Central:20120409T154500

DTSTAMP:20260423T135400Z
CREATED:20120406T221500Z
LAST-MODIFIED:20120406T221500Z
UID:20120409T151500-14257@law.utexas.edu
SUMMARY:Student Forum for Dean Search
DESCRIPTION:<p>The forum will be an opportunity for students to directly question the Dean candidate on issues that are important to the UT Law student body.</p>
  <p>The names, web bios, and CVs of the four candidates are available on a password-protected Dean Search website: <a href="http://share.law.utexas.edu/depts/deansearch/.">http://share.law.utexas.edu/depts/deansearch/.</a></p>\n\nIf you need an accommodation to participate in this event, please contact the event sponsor or the Texas Law Special Events Office at specialevents@law.utexas.edu no later than seven business days prior to the event.
X-ALT-DESC;FMTTYPE=text/html:<p>The forum will be an opportunity for students to directly question the Dean candidate on issues that are important to the UT Law student body.</p>
  <p>The names, web bios, and CVs of the four candidates are available on a password-protected Dean Search website: <a href="http://share.law.utexas.edu/depts/deansearch/.">http://share.law.utexas.edu/depts/deansearch/.</a></p><p>If you need an accommodation to participate in this event, please contact the event
                                          event sponsor or the Texas Law Special Events Office at <a href="mailto:specialevents@law.utexas.edu">specialevents@law.utexas.edu</a> no later than seven business days prior to the event.</p>
CATEGORIES:Meeting
LOCATION:CCJ 2.306 - Eidman Courtroom
URL:http://law.utexas.edu/calendar/2012/04/09/14257/
CLASS:PUBLIC
STATUS:CONFIRMED

END:VEVENT
END:VCALENDAR