BEGIN:VCALENDAR
VERSION:2.0
PRODID:-//UNIVERSITY OF TEXAS SCHOOL OF LAW//NONSGML Events Calendar v1.0//EN
X-WR-TIMEZONE:America/Chicago
BEGIN:VTIMEZONE
TZID:US/Central
X-LIC-LOCATION:America/Chicago
BEGIN:DAYLIGHT
TZOFFSETFROM:-0600
TZOFFSETTO:-0500
TZNAME:CDT
DTSTART:19700308T020000
RRULE:FREQ=YEARLY;BYMONTH=3;BYDAY=2SU
END:DAYLIGHT
BEGIN:STANDARD
TZOFFSETFROM:-0500
TZOFFSETTO:-0600
TZNAME:CST
DTSTART:19701101T020000
RRULE:FREQ=YEARLY;BYMONTH=11;BYDAY=1SU
END:STANDARD
END:VTIMEZONE
BEGIN:VEVENT
DTSTART;TZID=US/Central:20120410T153000
DTEND;VALUE=DATE-TIME;TZID=US/Central:20120410T170000

DTSTAMP:20260423T135400Z
CREATED:20120119T010200Z
LAST-MODIFIED:20120409T155300Z
UID:20120410T153000-13525@law.utexas.edu
SUMMARY:Preparing For Your Law Firm Clerkship
DESCRIPTION:<p>In the first hour, learn the tips and tools you’ll need to succeed as a summer associate at a small or large firm. Panelists include <a title="Jennifer Poppe" href="http://www.velaw.com/lawyers/JenniferPoppe.aspx">Jennifer Poppe '98</a>, Hiring Partner at Vinson &amp; Elkins (Dallas); Gretchen Rollins, Global Hiring Manager, Entry Level, at Vinson &amp; Elkins (Dallas);  <a title="Amber MacIver" href="http://www.bakerbotts.com/amber-maciver/">Amber MacIver</a> '06, Associate at Baker Botts L.L.P. (Austin); and <a title="John Broussard" href="http://www.bmpllp.com/attorneys/john-k-broussard">John Broussard</a> '04, Associate at Beirne, Maynard &amp; Parsons, L.L.P. (Houston). Moderated by <a title="Tracy McCormack" href="http://www.utexas.edu/law/faculty/twm429/">Tracy McCormack</a>, Director of Advocacy Programs at UT Law.</p>
  <p>At 4:30 p.m., speak with Tarlton Law Librarians about legal research strategies for summer clerkship assignments. They’ll discuss how to familiarize yourself with your firm's research environment, what questions to ask when you receive an assignment, and best practices for deciding where to start your research. Examples of actual summer assignments from law firms will be presented.</p>
  <p>Refreshments will be served. RSVP on <a title="UT Law Symplicity" href="https://law-utexas-csm.symplicity.com/students/">UT Law Symplicity</a> by Monday, April 9, by selecting the 'Events' tab.</p>\n\nIf you need an accommodation to participate in this event, please contact the event sponsor or the Texas Law Special Events Office at specialevents@law.utexas.edu no later than seven business days prior to the event.
X-ALT-DESC;FMTTYPE=text/html:<p>In the first hour, learn the tips and tools you’ll need to succeed as a summer associate at a small or large firm. Panelists include <a title="Jennifer Poppe" href="http://www.velaw.com/lawyers/JenniferPoppe.aspx">Jennifer Poppe '98</a>, Hiring Partner at Vinson &amp; Elkins (Dallas); Gretchen Rollins, Global Hiring Manager, Entry Level, at Vinson &amp; Elkins (Dallas);  <a title="Amber MacIver" href="http://www.bakerbotts.com/amber-maciver/">Amber MacIver</a> '06, Associate at Baker Botts L.L.P. (Austin); and <a title="John Broussard" href="http://www.bmpllp.com/attorneys/john-k-broussard">John Broussard</a> '04, Associate at Beirne, Maynard &amp; Parsons, L.L.P. (Houston). Moderated by <a title="Tracy McCormack" href="http://www.utexas.edu/law/faculty/twm429/">Tracy McCormack</a>, Director of Advocacy Programs at UT Law.</p>
  <p>At 4:30 p.m., speak with Tarlton Law Librarians about legal research strategies for summer clerkship assignments. They’ll discuss how to familiarize yourself with your firm's research environment, what questions to ask when you receive an assignment, and best practices for deciding where to start your research. Examples of actual summer assignments from law firms will be presented.</p>
  <p>Refreshments will be served. RSVP on <a title="UT Law Symplicity" href="https://law-utexas-csm.symplicity.com/students/">UT Law Symplicity</a> by Monday, April 9, by selecting the 'Events' tab.</p><p>If you need an accommodation to participate in this event, please contact the event
                                          event sponsor or the Texas Law Special Events Office at <a href="mailto:specialevents@law.utexas.edu">specialevents@law.utexas.edu</a> no later than seven business days prior to the event.</p>
CATEGORIES:Workshop / Training Program
LOCATION:TNH 2.114 - Francis Auditorium
URL:http://law.utexas.edu/calendar/2012/04/10/13525/
CLASS:PUBLIC
STATUS:CONFIRMED
COMMENT:Please contact Simone Leavenworth, Career Counselor, at <a href="mailto:sleavenworth@law.utexas.edu">sleavenworth@law.utexas.edu</a> or 512-232-1157 in the CSO.
END:VEVENT
END:VCALENDAR