BEGIN:VCALENDAR
VERSION:2.0
PRODID:-//UNIVERSITY OF TEXAS SCHOOL OF LAW//NONSGML Events Calendar v1.0//EN
X-WR-TIMEZONE:America/Chicago
BEGIN:VTIMEZONE
TZID:US/Central
X-LIC-LOCATION:America/Chicago
BEGIN:DAYLIGHT
TZOFFSETFROM:-0600
TZOFFSETTO:-0500
TZNAME:CDT
DTSTART:19700308T020000
RRULE:FREQ=YEARLY;BYMONTH=3;BYDAY=2SU
END:DAYLIGHT
BEGIN:STANDARD
TZOFFSETFROM:-0500
TZOFFSETTO:-0600
TZNAME:CST
DTSTART:19701101T020000
RRULE:FREQ=YEARLY;BYMONTH=11;BYDAY=1SU
END:STANDARD
END:VTIMEZONE
BEGIN:VEVENT
DTSTART;TZID=US/Central:20120411T113000
DTEND;VALUE=DATE-TIME;TZID=US/Central:20120411T123000

DTSTAMP:20260423T135400Z
CREATED:20120321T222400Z
LAST-MODIFIED:20120410T143300Z
UID:20120411T113000-14135@law.utexas.edu
SUMMARY:Public Interest Fellowships Advice
DESCRIPTION:<p>Nicole Simmons, Public Interest Career Counselor with the CSO, along with 3Ls who have secured postgraduate fellowships, will discuss some of the more popular project-based fellowships obtained by UT Law graduates. Panelists will discuss the application process and provide strategies for putting together a competitive fellowship application. Panelists include Meredith Shytles ’11, Skadden Foundation Fellowship with Disability Rights Texas (Austin); Christine Nishimura  ’12, Equal Justice Works Postgraduate Fellowship with Disability Rights Texas (Austin) sponsored by Texas Access to Justice Foundation &amp; Greenberg Traurig LLP;  Amelia Ruiz Fischer ’12, Equal Justice Works Postgraduate Fellowship with Texas Civil Rights Project (Austin) sponsored by Akin Gump; Keegan Warren-Clem ’12, Equal Justice Works Postgraduate Fellowship with Texas Legal Services Center (Austin) sponsored by the Texas Access to Justice Foundation; and Michael Cowles '12, Glickman Fellowship. </p>
  <p>Lunch will be served.  RSVP by Tuesday, April 10, on <a href="https://law-utexas-csm.symplicity.com/students/">UT Law Symplicity</a> by selecting the “Events” tab.</p>\n\nIf you need an accommodation to participate in this event, please contact the event sponsor or the Texas Law Special Events Office at specialevents@law.utexas.edu no later than seven business days prior to the event.
X-ALT-DESC;FMTTYPE=text/html:<p>Nicole Simmons, Public Interest Career Counselor with the CSO, along with 3Ls who have secured postgraduate fellowships, will discuss some of the more popular project-based fellowships obtained by UT Law graduates. Panelists will discuss the application process and provide strategies for putting together a competitive fellowship application. Panelists include Meredith Shytles ’11, Skadden Foundation Fellowship with Disability Rights Texas (Austin); Christine Nishimura  ’12, Equal Justice Works Postgraduate Fellowship with Disability Rights Texas (Austin) sponsored by Texas Access to Justice Foundation &amp; Greenberg Traurig LLP;  Amelia Ruiz Fischer ’12, Equal Justice Works Postgraduate Fellowship with Texas Civil Rights Project (Austin) sponsored by Akin Gump; Keegan Warren-Clem ’12, Equal Justice Works Postgraduate Fellowship with Texas Legal Services Center (Austin) sponsored by the Texas Access to Justice Foundation; and Michael Cowles '12, Glickman Fellowship. </p>
  <p>Lunch will be served.  RSVP by Tuesday, April 10, on <a href="https://law-utexas-csm.symplicity.com/students/">UT Law Symplicity</a> by selecting the “Events” tab.</p><p>If you need an accommodation to participate in this event, please contact the event
                                          event sponsor or the Texas Law Special Events Office at <a href="mailto:specialevents@law.utexas.edu">specialevents@law.utexas.edu</a> no later than seven business days prior to the event.</p>
CATEGORIES:Workshop / Training Program
LOCATION:Career Services Interview Suite (TNH 3.122)
URL:http://law.utexas.edu/calendar/2012/04/11/14135/
CLASS:PUBLIC
STATUS:CONFIRMED
COMMENT:Please contact Nicole Simmons, Public Interest Career Counselor, at 512-232-1160 or <a href="mailto:nsimmons@law.utexas.edu">nsimmons@law.utexas.edu</a>.
END:VEVENT
END:VCALENDAR