BEGIN:VCALENDAR
VERSION:2.0
PRODID:-//UNIVERSITY OF TEXAS SCHOOL OF LAW//NONSGML Events Calendar v1.0//EN
X-WR-TIMEZONE:America/Chicago
BEGIN:VTIMEZONE
TZID:US/Central
X-LIC-LOCATION:America/Chicago
BEGIN:DAYLIGHT
TZOFFSETFROM:-0600
TZOFFSETTO:-0500
TZNAME:CDT
DTSTART:19700308T020000
RRULE:FREQ=YEARLY;BYMONTH=3;BYDAY=2SU
END:DAYLIGHT
BEGIN:STANDARD
TZOFFSETFROM:-0500
TZOFFSETTO:-0600
TZNAME:CST
DTSTART:19701101T020000
RRULE:FREQ=YEARLY;BYMONTH=11;BYDAY=1SU
END:STANDARD
END:VTIMEZONE
BEGIN:VEVENT
DTSTART;TZID=US/Central:20120411T143000
DTEND;VALUE=DATE-TIME;TZID=US/Central:20120411T163000

DTSTAMP:20260423T122100Z
CREATED:20120403T205400Z
LAST-MODIFIED:20120403T205400Z
UID:20120411T143000-14246@law.utexas.edu
SUMMARY:CSO Open House
DESCRIPTION:<p>Stop by and meet the CSO staff to learn more about what the CSO has to offer including how to find a summer job and prepare for <a title="Fall On-Campus Interviews" href="https://www.utexas.edu/law/career/oci/index.html">Fall OCI</a> and <a title="Off-Campus Job Fairs" href="https://www.utexas.edu/law/career/fairs/index.html">summer job fairs</a>. The student-run <a title="Action Committee for Career Services (ACCS)" href="http://www.utexas.edu/law/career/accs/index.html">Action Committee for Career Services (ACCS)</a> will be taking confidential feedback, providing one-on-one peer advice about OCI and job fairs, and conducting tours of the Interview Suite so you know what to expect during Fall OCI.</p>
  <p>The ACCS will also be <a title="Action Committee for Career Services (ACCS) Application" href="http://www.utexas.edu/law/career/form/accs.html">accepting applications</a> for the 2012-13 academic year and selling student business cards at a 10% discount. Refreshments will be served. Sponsored by the Action Committee for Career Services.</p>\n\nIf you need an accommodation to participate in this event, please contact the event sponsor or the Texas Law Special Events Office at specialevents@law.utexas.edu no later than seven business days prior to the event.
X-ALT-DESC;FMTTYPE=text/html:<p>Stop by and meet the CSO staff to learn more about what the CSO has to offer including how to find a summer job and prepare for <a title="Fall On-Campus Interviews" href="https://www.utexas.edu/law/career/oci/index.html">Fall OCI</a> and <a title="Off-Campus Job Fairs" href="https://www.utexas.edu/law/career/fairs/index.html">summer job fairs</a>. The student-run <a title="Action Committee for Career Services (ACCS)" href="http://www.utexas.edu/law/career/accs/index.html">Action Committee for Career Services (ACCS)</a> will be taking confidential feedback, providing one-on-one peer advice about OCI and job fairs, and conducting tours of the Interview Suite so you know what to expect during Fall OCI.</p>
  <p>The ACCS will also be <a title="Action Committee for Career Services (ACCS) Application" href="http://www.utexas.edu/law/career/form/accs.html">accepting applications</a> for the 2012-13 academic year and selling student business cards at a 10% discount. Refreshments will be served. Sponsored by the Action Committee for Career Services.</p><p>If you need an accommodation to participate in this event, please contact the event
                                          event sponsor or the Texas Law Special Events Office at <a href="mailto:specialevents@law.utexas.edu">specialevents@law.utexas.edu</a> no later than seven business days prior to the event.</p>
CATEGORIES:Other
LOCATION:Career Services Interview Suite (TNH 3.122)
URL:http://law.utexas.edu/calendar/2012/04/11/14246/
CLASS:PUBLIC
STATUS:CONFIRMED
COMMENT:Please contact Nick Stepp, ACCS President, at <a href="mailto:nicholas.stepp@gmail.com">nicholas.stepp@gmail.com</a>.
END:VEVENT
END:VCALENDAR