BEGIN:VCALENDAR
VERSION:2.0
PRODID:-//UNIVERSITY OF TEXAS SCHOOL OF LAW//NONSGML Events Calendar v1.0//EN
X-WR-TIMEZONE:America/Chicago
BEGIN:VTIMEZONE
TZID:US/Central
X-LIC-LOCATION:America/Chicago
BEGIN:DAYLIGHT
TZOFFSETFROM:-0600
TZOFFSETTO:-0500
TZNAME:CDT
DTSTART:19700308T020000
RRULE:FREQ=YEARLY;BYMONTH=3;BYDAY=2SU
END:DAYLIGHT
BEGIN:STANDARD
TZOFFSETFROM:-0500
TZOFFSETTO:-0600
TZNAME:CST
DTSTART:19701101T020000
RRULE:FREQ=YEARLY;BYMONTH=11;BYDAY=1SU
END:STANDARD
END:VTIMEZONE
BEGIN:VEVENT
DTSTART;TZID=US/Central:20120411T170000
DTEND;VALUE=DATE-TIME;TZID=US/Central:20120411T183000

DTSTAMP:20260423T135300Z
CREATED:20120405T190700Z
LAST-MODIFIED:20120405T190700Z
UID:20120411T170000-14255@law.utexas.edu
SUMMARY:UT Journals Write-On Competition Meeting
DESCRIPTION:<p>Interested in participating in the annual Write-On Competition for the UT law journals? Come and hear about the dates, procedures, and policies of this year’s Write-On Competition.</p>
  <p>To help you pick the journals in which you’re interested, you’ll hear from representatives of the various journals. 
  The following journals will be present: The American Journal of Criminal Law, the Texas Environmental Law Journal, the Texas Hispanic Journal of Law and Policy, the Texas Intellectual Property Law Journal, the Texas International Law Journal, the Texas Journal of Oil, Gas &amp; Energy Law, the Texas Journal of Women and the Law, the Texas Journal on Civil Liberties &amp; Civil Rights, the Texas Law Review, the Texas Review of Entertainment and Sports Law, the Texas Review of Law &amp; Politics, and The Review of Litigation.</p>
  <p>For further information, please contact Ralph Mayrell, Book Review Editor of the Texas Law Review at bookreviews@texaslrev.com</p>\n\nIf you need an accommodation to participate in this event, please contact the event sponsor or the Texas Law Special Events Office at specialevents@law.utexas.edu no later than seven business days prior to the event.
X-ALT-DESC;FMTTYPE=text/html:<p>Interested in participating in the annual Write-On Competition for the UT law journals? Come and hear about the dates, procedures, and policies of this year’s Write-On Competition.</p>
  <p>To help you pick the journals in which you’re interested, you’ll hear from representatives of the various journals. 
  The following journals will be present: The American Journal of Criminal Law, the Texas Environmental Law Journal, the Texas Hispanic Journal of Law and Policy, the Texas Intellectual Property Law Journal, the Texas International Law Journal, the Texas Journal of Oil, Gas &amp; Energy Law, the Texas Journal of Women and the Law, the Texas Journal on Civil Liberties &amp; Civil Rights, the Texas Law Review, the Texas Review of Entertainment and Sports Law, the Texas Review of Law &amp; Politics, and The Review of Litigation.</p>
  <p>For further information, please contact Ralph Mayrell, Book Review Editor of the Texas Law Review at bookreviews@texaslrev.com</p><p>If you need an accommodation to participate in this event, please contact the event
                                          event sponsor or the Texas Law Special Events Office at <a href="mailto:specialevents@law.utexas.edu">specialevents@law.utexas.edu</a> no later than seven business days prior to the event.</p>
CATEGORIES:Meeting
LOCATION:TNH 2.114 - Francis Auditorium
URL:http://law.utexas.edu/calendar/2012/04/11/14255/
CLASS:PUBLIC
STATUS:CONFIRMED

END:VEVENT
END:VCALENDAR