BEGIN:VCALENDAR
VERSION:2.0
PRODID:-//UNIVERSITY OF TEXAS SCHOOL OF LAW//NONSGML Events Calendar v1.0//EN
X-WR-TIMEZONE:America/Chicago
BEGIN:VTIMEZONE
TZID:US/Central
X-LIC-LOCATION:America/Chicago
BEGIN:DAYLIGHT
TZOFFSETFROM:-0600
TZOFFSETTO:-0500
TZNAME:CDT
DTSTART:19700308T020000
RRULE:FREQ=YEARLY;BYMONTH=3;BYDAY=2SU
END:DAYLIGHT
BEGIN:STANDARD
TZOFFSETFROM:-0500
TZOFFSETTO:-0600
TZNAME:CST
DTSTART:19701101T020000
RRULE:FREQ=YEARLY;BYMONTH=11;BYDAY=1SU
END:STANDARD
END:VTIMEZONE
BEGIN:VEVENT
DTSTART;TZID=US/Central:20120412T113000
DTEND;VALUE=DATE-TIME;TZID=US/Central:20120412T123000

DTSTAMP:20260423T135400Z
CREATED:20120409T144100Z
LAST-MODIFIED:20120410T164800Z
UID:20120412T113000-14272@law.utexas.edu
SUMMARY:Religious Freedom in Schools
DESCRIPTION:<p>Fifty years after the Supreme Court’s landmark decisions on school prayer, many public schools around the country still struggle to honor their basic First Amendment duties.  </p>
  <p>Daniel Mach, Director of the ACLU Program on Freedom of Religion and Belief, will discuss some of the recurring problems and recent conflicts – including proselytizing school assemblies, sectarian Bible curricula, restrictive student dress codes, and more.</p>
  <p>Join ACS for free lunch and discussion on this fascinating topic!</p>\n\nIf you need an accommodation to participate in this event, please contact the event sponsor or the Texas Law Special Events Office at specialevents@law.utexas.edu no later than seven business days prior to the event.
X-ALT-DESC;FMTTYPE=text/html:<p>Fifty years after the Supreme Court’s landmark decisions on school prayer, many public schools around the country still struggle to honor their basic First Amendment duties.  </p>
  <p>Daniel Mach, Director of the ACLU Program on Freedom of Religion and Belief, will discuss some of the recurring problems and recent conflicts – including proselytizing school assemblies, sectarian Bible curricula, restrictive student dress codes, and more.</p>
  <p>Join ACS for free lunch and discussion on this fascinating topic!</p><p>If you need an accommodation to participate in this event, please contact the event
                                          event sponsor or the Texas Law Special Events Office at <a href="mailto:specialevents@law.utexas.edu">specialevents@law.utexas.edu</a> no later than seven business days prior to the event.</p>
CATEGORIES:Panel Discussion / Speaker Series
LOCATION:TNH 3.127 - Roberts Classroom
URL:http://law.utexas.edu/calendar/2012/04/12/14272/
CLASS:PUBLIC
STATUS:CONFIRMED

END:VEVENT
END:VCALENDAR